BEGIN:VCALENDAR
VERSION:2.0
PRODID:-//ChamberMaster//Event Calendar 2.0//EN
METHOD:PUBLISH
X-PUBLISHED-TTL:P3D
REFRESH-INTERVAL:P3D
CALSCALE:GREGORIAN
BEGIN:VEVENT
DTSTART:20160319T150000Z
DTEND:20160319T180000Z
X-MICROSOFT-CDO-ALLDAYEVENT:FALSE
SUMMARY:Annual Easter Egg Hunt
DESCRIPTION:The City of Pensacola Parks and Recreation Department will host the annual Easter Egg Hunt at Roger Scott Athletic Complex on Saturday\, March 19. The fun takes place 10 a.m.   1 p.m. with free activities for children and egg hunts with over 20\,000 candy and prize-filled eggs (divided amongst five egg hunts).\n\n   \n\nThe egg hunt times are as follows:\n\n10:30 a.m.       Stroller   2 year olds\n\n11:00 a.m.       3   4 year olds\n\n11:30 a.m.       5   6 year olds\n\n12:00 p.m.       7   9 year olds\n\n12:20 p.m.       10   12 year olds  \n\n\n\nThroughout the day kids can play carnival games\, bounce on inflatables\, enjoy arts and crafts\, and play at the bubble station. Parents be sure and bring your camera for pictures with the Easter Bunny as well.   \n\n\n\nAdmission to the event is free with a donation of a non-perishable food item for Manna Food Pantries.
X-ALT-DESC;FMTTYPE=text/html:The City of Pensacola Parks and Recreation Department will host the annual Easter Egg Hunt at Roger Scott Athletic Complex on Saturday\, March 19. The fun takes place 10 a.m. &ndash\; 1 p.m. with free activities for children and egg hunts with over 20\,000 candy and prize-filled eggs (divided amongst five egg hunts).<br />\n&nbsp\; &nbsp\;<br />\nThe egg hunt times are as follows:<br />\n10:30 a.m.&nbsp\;&nbsp\;&nbsp\;&nbsp\;&nbsp\;&nbsp\; Stroller &ndash\; 2 year olds<br />\n11:00 a.m.&nbsp\;&nbsp\;&nbsp\;&nbsp\;&nbsp\;&nbsp\; 3 &ndash\; 4 year olds<br />\n11:30 a.m.&nbsp\;&nbsp\;&nbsp\;&nbsp\;&nbsp\;&nbsp\; 5 &ndash\; 6 year olds<br />\n12:00 p.m.&nbsp\;&nbsp\;&nbsp\;&nbsp\;&nbsp\;&nbsp\; 7 &ndash\; 9 year olds<br />\n12:20 p.m.&nbsp\;&nbsp\;&nbsp\;&nbsp\;&nbsp\;&nbsp\; 10 &ndash\; 12 year olds &nbsp\;<br />\n<br />\nThroughout the day kids can play carnival games\, bounce on inflatables\, enjoy arts and crafts\, and play at the bubble station. Parents be sure and bring your camera for pictures with the Easter Bunny as well.&nbsp\; &nbsp\;<br />\n<br />\nAdmission to the event is free with a donation of a non-perishable food item for Manna Food Pantries.&nbsp\;&nbsp\;&nbsp\;
LOCATION:Roger Scott Athletic Complex 2130 Summit Boulevard Pensacola\, FL 32504
UID:e.2219.8634
SEQUENCE:3
DTSTAMP:20260423T203721Z
URL:http://business.gulfbreezechamber.com/events/details/annual-easter-egg-hunt-03-19-2016-8634
END:VEVENT

END:VCALENDAR
