BEGIN:VCALENDAR
VERSION:2.0
PRODID:-//ChamberMaster//Event Calendar 2.0//EN
METHOD:PUBLISH
X-PUBLISHED-TTL:P3D
REFRESH-INTERVAL:P3D
CALSCALE:GREGORIAN
BEGIN:VEVENT
DTSTART:20161022T150000Z
DTEND:20161022T210000Z
X-MICROSOFT-CDO-ALLDAYEVENT:FALSE
SUMMARY:Barktoberfest
DESCRIPTION:For dogs and dog lovers alike\, it really does not get much better than Barktoberfest when it comes to annual events.  The day-long festival includes games\, demonstrations\, adoptions and plenty of pups in their Halloween best.  For additional information\, please visit pensacolahumane.org.
X-ALT-DESC;FMTTYPE=text/html:For dogs and dog lovers alike\, it really does not get much better than Barktoberfest when it comes to annual events.&nbsp\; The day-long festival includes games\, demonstrations\, adoptions and plenty of pups in their Halloween best.&nbsp\; For additional information\, please visit pensacolahumane.org.
LOCATION:Seville Square in Downtown Pensacola
UID:e.2219.9233
SEQUENCE:3
DTSTAMP:20260421T033843Z
URL:http://business.gulfbreezechamber.com/events/details/barktoberfest-9233
END:VEVENT

END:VCALENDAR
