BEGIN:VCALENDAR
VERSION:2.0
PRODID:-//ChamberMaster//Event Calendar 2.0//EN
METHOD:PUBLISH
X-PUBLISHED-TTL:P3D
REFRESH-INTERVAL:P3D
CALSCALE:GREGORIAN
BEGIN:VEVENT
DTSTART;VALUE=DATE:20160628
DTEND;VALUE=DATE:20160629
TRANSP:TRANSPARENT
X-MICROSOFT-CDO-ALLDAYEVENT:TRUE
SUMMARY:Bear Workshop
DESCRIPTION:Due to the continued rise in bear encounters in Santa Rosa County\, Representative Doug Broxson and the Florida Fish and Wildlife Conservation Commission are hosting a public workshop for area residents to learn how to prevent bear activity around their homes and property.  The workshop is on Tuesday\, June 28\, 5:30 PM\, at the First Baptist Church Navarre Fellowship Hall.
X-ALT-DESC;FMTTYPE=text/html:Due to the continued rise in bear encounters in Santa Rosa County\, Representative Doug Broxson and the Florida Fish and Wildlife Conservation Commission are hosting a public workshop for area residents to learn how to prevent bear activity around their homes and property.&nbsp\; The workshop is on Tuesday\, June 28\, 5:30 PM\, at the First Baptist Church Navarre Fellowship Hall.
LOCATION:First Baptist Church 9302 Navarre Parkway Navarre\, FL
UID:e.2219.9085
SEQUENCE:3
DTSTAMP:20260422T164306Z
URL:http://business.gulfbreezechamber.com/events/details/bear-workshop-06-28-2016-9085
END:VEVENT

END:VCALENDAR
