BEGIN:VCALENDAR
VERSION:2.0
PRODID:-//ChamberMaster//Event Calendar 2.0//EN
METHOD:PUBLISH
X-PUBLISHED-TTL:P3D
REFRESH-INTERVAL:P3D
CALSCALE:GREGORIAN
BEGIN:VEVENT
DTSTART:20161029T190000Z
DTEND:20161029T230000Z
X-MICROSOFT-CDO-ALLDAYEVENT:FALSE
SUMMARY:Community Fall Fest
DESCRIPTION:The Community Fall Fest will take place on Saturday\, October 29th\, from 2-6 PM at Shoreline Park in Gulf Breeze.  Games\, prizes\, and food!  Entrance is free.  For additional information\, please visit www.coastlinelife.com or call 850-932-8197.
X-ALT-DESC;FMTTYPE=text/html:The Community Fall Fest will take place on Saturday\, October 29th\, from 2-6 PM at Shoreline Park in Gulf Breeze.&nbsp\; Games\, prizes\, and food!&nbsp\; Entrance is free.&nbsp\; For additional information\, please visit www.coastlinelife.com or call 850-932-8197.
LOCATION:Shoreline Park in Gulf Breeze
UID:e.2219.9344
SEQUENCE:3
DTSTAMP:20260420T055816Z
URL:http://business.gulfbreezechamber.com/events/details/community-fall-fest-9344
END:VEVENT

END:VCALENDAR
