BEGIN:VCALENDAR
VERSION:2.0
PRODID:-//ChamberMaster//Event Calendar 2.0//EN
METHOD:PUBLISH
X-PUBLISHED-TTL:P3D
REFRESH-INTERVAL:P3D
CALSCALE:GREGORIAN
BEGIN:VEVENT
DTSTART:20161009T170000Z
DTEND:20161009T220000Z
X-MICROSOFT-CDO-ALLDAYEVENT:FALSE
SUMMARY:Dane-Toberfest
DESCRIPTION:Northwest Florida Great Dane Rescue presents its inaugural Dane-Toberfest celebration fundraising event on Sunday\, October 9\, from noon to 5 PM at the Pensacola Bay Brewery and Fountain Park in Downtown Pensacola.  This is a dog-friendly event.  Food\, live music\, vendors\, auctions\, raffles and more!  Nearly two dozen adoptable Great Danes will be on site to greet festival-goers.  For details\, please visit www.facebook.com/NWFLGDR or email NWFLGDR@gmail.com.
X-ALT-DESC;FMTTYPE=text/html:Northwest Florida Great Dane Rescue presents its inaugural Dane-Toberfest celebration fundraising event on Sunday\, October 9\, from noon to 5 PM at the Pensacola Bay Brewery and Fountain Park in Downtown Pensacola.&nbsp\; This is a dog-friendly event.&nbsp\; Food\, live music\, vendors\, auctions\, raffles and more!&nbsp\; Nearly two dozen adoptable Great Danes will be on site to greet festival-goers.&nbsp\; For details\, please visit www.facebook.com/NWFLGDR or email NWFLGDR@gmail.com.
LOCATION:
UID:e.2219.9272
SEQUENCE:3
DTSTAMP:20260424T073036Z
URL:http://business.gulfbreezechamber.com/events/details/dane-toberfest-9272
END:VEVENT

END:VCALENDAR
