BEGIN:VCALENDAR
VERSION:2.0
PRODID:-//ChamberMaster//Event Calendar 2.0//EN
METHOD:PUBLISH
X-PUBLISHED-TTL:P3D
REFRESH-INTERVAL:P3D
CALSCALE:GREGORIAN
BEGIN:VEVENT
DTSTART;VALUE=DATE:20161001
DTEND;VALUE=DATE:20161002
TRANSP:TRANSPARENT
X-MICROSOFT-CDO-ALLDAYEVENT:TRUE
SUMMARY:Disney Live
DESCRIPTION:Join Mickey Mouse\, Minnie Mouse and the comical duo of Donald and Goofy as 25 of your favorite characters surprise and captivate at every turn of the knob!  For additional information and tickets\, please visit www.pensacolabaycenter.com.
X-ALT-DESC;FMTTYPE=text/html:Join Mickey Mouse\, Minnie Mouse and the comical duo of Donald and Goofy as 25 of your favorite characters surprise and captivate at every turn of the knob!&nbsp\; For additional information and tickets\, please visit www.pensacolabaycenter.com.
LOCATION:Pensacola Bay Center 201 E. Gregory Street Pensacola\, FL
UID:e.2219.9282
SEQUENCE:3
DTSTAMP:20260422T080328Z
URL:http://business.gulfbreezechamber.com/events/details/disney-live-9282
END:VEVENT

END:VCALENDAR
