BEGIN:VCALENDAR
VERSION:2.0
PRODID:-//ChamberMaster//Event Calendar 2.0//EN
METHOD:PUBLISH
X-PUBLISHED-TTL:P3D
REFRESH-INTERVAL:P3D
CALSCALE:GREGORIAN
BEGIN:VEVENT
DTSTART;VALUE=DATE:20170204
DTEND;VALUE=DATE:20170205
TRANSP:TRANSPARENT
X-MICROSOFT-CDO-ALLDAYEVENT:TRUE
SUMMARY:Double Bridge Run
DESCRIPTION:The Pensacola Double Bridge Run Presented by Publix is one of the premier 15K races in the country.  The 15K carries runners over two bridges\, across Pensacola Bay and Santa Rosa Sound. It will run from downtown Pensacola with a tour that includes the historic district\, and picturesque Bayfront Parkway\, a run through Gulf Breeze\, and onto Pensacola Beach. The 5K invites both runners and walkers to travel from Gulf Breeze to beautiful Pensacola Beach on Santa Rosa Island and the Gulf Islands Seashore.  The race will take place on February 4\, 2017.  For additional information\, please visit pensacolasports.org.
X-ALT-DESC;FMTTYPE=text/html:The Pensacola Double Bridge Run Presented by Publix is one of the premier 15K races in the country.&nbsp\; The&nbsp\;15K carries runners over two bridges\, across Pensacola Bay and Santa Rosa Sound. It will run from downtown Pensacola with a tour that includes the historic district\, and picturesque Bayfront Parkway\, a run through Gulf Breeze\, and onto Pensacola Beach. The 5K invites both runners and walkers to travel from Gulf Breeze to beautiful Pensacola Beach on Santa Rosa Island and the Gulf Islands Seashore.&nbsp\; The race will take place on February 4\, 2017.&nbsp\; For additional information\, please visit pensacolasports.org.
LOCATION:
UID:e.2219.9514
SEQUENCE:3
DTSTAMP:20260419T164212Z
URL:http://business.gulfbreezechamber.com/events/details/double-bridge-run-9514
END:VEVENT

END:VCALENDAR
