BEGIN:VCALENDAR
VERSION:2.0
PRODID:-//ChamberMaster//Event Calendar 2.0//EN
METHOD:PUBLISH
X-PUBLISHED-TTL:P3D
REFRESH-INTERVAL:P3D
CALSCALE:GREGORIAN
BEGIN:VEVENT
DTSTART;VALUE=DATE:20160326
DTEND;VALUE=DATE:20160327
TRANSP:TRANSPARENT
X-MICROSOFT-CDO-ALLDAYEVENT:TRUE
SUMMARY:Easter Egg Hunt
DESCRIPTION:The Easter Egg Hunt will take place on Saturday\, March 26\, 10 AM\, at the Sunset Kid's Park.  Bring your family and invite your friends for an EGGciting morning at Shoreline Park in Gulf Breeze (toddlers - 5th grade).  For additional information\, please call Gulf Breeze United Methodist Church at 850-932-3594 or visit gbumc.org.
X-ALT-DESC;FMTTYPE=text/html:The Easter Egg Hunt will take place on Saturday\, March 26\, 10 AM\, at the Sunset Kid&#39\;s Park.&nbsp\; Bring your family and invite your friends for an EGGciting morning at Shoreline Park in Gulf Breeze (toddlers - 5th grade).&nbsp\; For additional information\, please call Gulf Breeze United Methodist Church at 850-932-3594 or visit gbumc.org.
LOCATION:
UID:e.2219.8683
SEQUENCE:3
DTSTAMP:20260423T092828Z
URL:http://business.gulfbreezechamber.com/events/details/easter-egg-hunt-03-26-2016-8683
END:VEVENT

END:VCALENDAR
