BEGIN:VCALENDAR
VERSION:2.0
PRODID:-//ChamberMaster//Event Calendar 2.0//EN
METHOD:PUBLISH
X-PUBLISHED-TTL:P3D
REFRESH-INTERVAL:P3D
CALSCALE:GREGORIAN
BEGIN:VEVENT
DTSTART:20161022T223000Z
DTEND:20161023T013000Z
X-MICROSOFT-CDO-ALLDAYEVENT:FALSE
SUMMARY:Halloween Egg Haunt
DESCRIPTION:The City of Pensacola Parks and Recreation Department will host the 7th Annual Halloween Egg Haunt on Saturday\, October 22\, at Roger Scott Athletic Complex from 5:30 to 8:30 p.m. There will be five egg haunts for children who are stroller age up to 13 years\, plus a kid's carnival\, Haunted Hayride\, Spooky Nature Trail\, bounce houses\, face painting\, costume contest and photo booth. Admission to the event is free. We ask those who can to bring a donation of a non-perishable food item to the event for a MANNA food drive.  \n\n \n\nEgg Haunt Schedule: \n\n6:00 p.m.        Infant to 2 years\n\n6:30 p.m.        3 to 4 years\n\n7:00 p.m.        5 to 7 years \n\n7:30 p.m.        8 to 10 years \n\n7:50 p.m.        11 to 13 years\n\n \n\nParticipants should arrive at the Egg Haunt (football field main gate) 15 minutes before their age group begins.  For additional information\, please call 850-436-5670 or visit playpensacola.com.
X-ALT-DESC;FMTTYPE=text/html:The City of Pensacola Parks and Recreation Department will host the 7th Annual Halloween Egg Haunt on Saturday\, October 22\, at Roger Scott Athletic Complex from 5:30 to 8:30 p.m. There will be five egg haunts for children who are stroller age up to 13 years\, plus a kid&rsquo\;s carnival\, Haunted Hayride\, Spooky Nature Trail\, bounce houses\, face painting\, costume contest and photo booth. Admission to the event is free. We ask those who can to bring a donation of a non-perishable food item to the event for a MANNA food drive. &nbsp\;<br />\n&nbsp\;<br />\nEgg Haunt Schedule:&nbsp\;<br />\n6:00 p.m.&nbsp\;&nbsp\;&nbsp\;&nbsp\;&nbsp\;&nbsp\;&nbsp\; Infant to 2 years<br />\n6:30 p.m.&nbsp\;&nbsp\;&nbsp\;&nbsp\;&nbsp\;&nbsp\;&nbsp\; 3 to 4 years<br />\n7:00 p.m.&nbsp\;&nbsp\;&nbsp\;&nbsp\;&nbsp\;&nbsp\;&nbsp\; 5 to 7 years&nbsp\;<br />\n7:30 p.m.&nbsp\;&nbsp\;&nbsp\;&nbsp\;&nbsp\;&nbsp\;&nbsp\; 8 to 10 years&nbsp\;<br />\n7:50 p.m.&nbsp\;&nbsp\;&nbsp\;&nbsp\;&nbsp\;&nbsp\;&nbsp\; 11 to 13 years<br />\n&nbsp\;<br />\nParticipants should arrive at the Egg Haunt (football field main gate) 15 minutes before their age group begins.&nbsp\; For additional information\, please call 850-436-5670 or visit playpensacola.com.<br />\n&nbsp\;
LOCATION:Roger Scott Athletic Complex 2030 Summit Boulevard Pensacola\, FL 32503
UID:e.2219.9302
SEQUENCE:3
DTSTAMP:20260420T014627Z
URL:http://business.gulfbreezechamber.com/events/details/halloween-egg-haunt-9302
END:VEVENT

END:VCALENDAR
