BEGIN:VCALENDAR
VERSION:2.0
PRODID:-//ChamberMaster//Event Calendar 2.0//EN
METHOD:PUBLISH
X-PUBLISHED-TTL:P3D
REFRESH-INTERVAL:P3D
CALSCALE:GREGORIAN
BEGIN:VEVENT
DTSTART:20260423T000000Z
DTEND:20260423T040000Z
X-MICROSOFT-CDO-ALLDAYEVENT:FALSE
SUMMARY:Homies duo performing LIVE at Bamboo Willies!
DESCRIPTION:Homies duo performing LIVE at Bamboo Willies!
X-ALT-DESC;FMTTYPE=text/html:Homies duo performing LIVE at Bamboo Willies!
LOCATION:
UID:e.2219.32204
SEQUENCE:3
DTSTAMP:20260422T192710Z
URL:http://business.gulfbreezechamber.com/events/details/homies-duo-performing-live-at-bamboo-willies-32204
END:VEVENT

END:VCALENDAR
