BEGIN:VCALENDAR
VERSION:2.0
PRODID:-//ChamberMaster//Event Calendar 2.0//EN
METHOD:PUBLISH
X-PUBLISHED-TTL:P3D
REFRESH-INTERVAL:P3D
CALSCALE:GREGORIAN
BEGIN:VEVENT
DTSTART:20161113T180000Z
DTEND:20161113T210000Z
X-MICROSOFT-CDO-ALLDAYEVENT:FALSE
SUMMARY:Pensacola EggFest
DESCRIPTION:Join us on Sunday\, November 13\, from Noon until 3 PM at the Blue Wahoos' Stadium for the best BBQ party on the coast\, Pensacola Egg Fest.\n\nImagine nearly 100 Big Green Eggs  lined up inside Blue Wahoo's Stadium\, located on beautiful Pensacola Bay.\n\nNow imagine sampling every delicious bite that is being cooked by our competitors those masterful smoking machines   the Big Green Egg. Your $25 ticket ($35 at the gate) includes entry to the event\, samplings\, entertainment and Big Green Egg demonstrations!\n\nSome of the best "EggChef's" come from all over the Southeast. So\, get your tickets early!\n\n\n\nThe event supports local Children's & Teen causes such as Chain Reaction\, Rally #MoreThan4Pensacola and AMI Kids.\n\n\n\nFor additional details\, please visit www.pensacolaeggfest.com.
X-ALT-DESC;FMTTYPE=text/html:<div id="event-top">\n<hr />Join us on Sunday\, November 13\, from Noon until 3 PM at the Blue Wahoos&#39\; Stadium for the best BBQ party on the coast\, Pensacola Egg Fest.</div>\n\n<p>Imagine nearly 100 Big Green Eggs&reg\; lined up inside Blue Wahoo&rsquo\;s Stadium\, located on beautiful Pensacola Bay.</p>\n\n<p>Now imagine sampling every delicious bite that is being cooked by our competitors those masterful smoking machines &mdash\; the Big Green Egg. Your $25 ticket ($35 at the gate) includes entry to the event\, samplings\, entertainment and Big Green Egg demonstrations!</p>\n\n<p>Some of the best &ldquo\;EggChef&rsquo\;s&rdquo\; come from all over the Southeast. So\, get your tickets early!<br />\n<br />\nThe event supports local Children&#39\;s &amp\; Teen causes such as Chain Reaction\, Rally #MoreThan4Pensacola and AMI Kids.<br />\n<br />\nFor additional details\, please visit www.pensacolaeggfest.com.</p>\n
LOCATION:Maritime Park in downtown Pensacola\, FL 351 West Cedar Street
UID:e.2219.9228
SEQUENCE:3
DTSTAMP:20260425T015337Z
URL:http://business.gulfbreezechamber.com/events/details/pensacola-eggfest-9228
END:VEVENT

END:VCALENDAR
