BEGIN:VCALENDAR
VERSION:2.0
PRODID:-//ChamberMaster//Event Calendar 2.0//EN
METHOD:PUBLISH
X-PUBLISHED-TTL:P3D
REFRESH-INTERVAL:P3D
CALSCALE:GREGORIAN
BEGIN:VEVENT
DTSTART;VALUE=DATE:20161020
DTEND;VALUE=DATE:20161031
TRANSP:TRANSPARENT
X-MICROSOFT-CDO-ALLDAYEVENT:TRUE
SUMMARY:Pensacola Interstate Fair
DESCRIPTION:The 82nd Pensacola Interstate Fair is scheduled for October 20-30 and will bring the excitement of attractions\, rides\, exhibits\, fair food\, fun and shows for the whole family.  For complete information\, please call 850-944-4500 or visit pensacolafair.com.
X-ALT-DESC;FMTTYPE=text/html:The 82nd Pensacola Interstate Fair is scheduled for October 20-30 and will bring the excitement of attractions\, rides\, exhibits\, fair food\, fun and shows for the whole family.&nbsp\; For complete information\, please call 850-944-4500 or visit pensacolafair.com.
LOCATION:6655 West Mobile Highway Pensacola\, FL 32526
UID:e.2219.9225
SEQUENCE:3
DTSTAMP:20260422T060931Z
URL:http://business.gulfbreezechamber.com/events/details/pensacola-interstate-fair-9225
END:VEVENT

END:VCALENDAR
