BEGIN:VCALENDAR
VERSION:2.0
PRODID:-//ChamberMaster//Event Calendar 2.0//EN
METHOD:PUBLISH
X-PUBLISHED-TTL:P3D
REFRESH-INTERVAL:P3D
CALSCALE:GREGORIAN
BEGIN:VEVENT
DTSTART:20160924T150000Z
DTEND:20160924T180000Z
X-MICROSOFT-CDO-ALLDAYEVENT:FALSE
SUMMARY:Steps for Autism
DESCRIPTION:UWF Office of Applied Behavior Analysis presents Steps for Autism on Saturday\, September 24\, from 10 AM - 1 PM\, at the Pensacola Blue Wahoos Stadium in downtown Pensacola.  There will be music\, games\, raffles\, food and more.  Please visit www.autismpensacola.org for sign up and additional details.
X-ALT-DESC;FMTTYPE=text/html:UWF Office of Applied Behavior Analysis presents Steps for Autism on Saturday\, September 24\, from 10 AM - 1 PM\, at the Pensacola Blue Wahoos Stadium in downtown Pensacola.&nbsp\; There will be music\, games\, raffles\, food and more.&nbsp\; Please visit <a href="http://www.autismpensacola.org">www.autismpensacola.org</a> for sign up and additional details.
LOCATION:Pensacola Blue Wahoos Stadium\, downtown Pensacola
UID:e.2219.9250
SEQUENCE:3
DTSTAMP:20260421T081302Z
URL:http://business.gulfbreezechamber.com/events/details/steps-for-autism-9250
END:VEVENT

END:VCALENDAR
