BEGIN:VCALENDAR
VERSION:2.0
PRODID:-//ChamberMaster//Event Calendar 2.0//EN
METHOD:PUBLISH
X-PUBLISHED-TTL:P3D
REFRESH-INTERVAL:P3D
CALSCALE:GREGORIAN
BEGIN:VEVENT
DTSTART:20160921T143000Z
DTEND:20160921T160000Z
X-MICROSOFT-CDO-ALLDAYEVENT:FALSE
SUMMARY:Trusts and Wills: When\, How & Why
DESCRIPTION:PENSACOLA\n\nSacred Heart Hospital\n\nGreenhut Auditorium-Pensacola\n\n5151 N. 9th Ave.\, Pensacola\, Fla.\n\nWednesday\, September 21   9:30 - 11:00 AM\n\nTrusts and Wills: When\, How & Why\n\nNicholas R. Medley\, Elder Law Attorney\n\nMedley Law Firm\n\n \n\nSetting up a trust may help you avoid probate and reduce estate taxes. Find out what can trigger\n\nprobate\, how to avoid "trust mills\," and why you should always use an attorney to assist you. This\n\ninformative program will educate you about various types of trusts for you and your heirs.
X-ALT-DESC;FMTTYPE=text/html:<strong>PENSACOLA</strong><br />\nSacred Heart Hospital<br />\nGreenhut Auditorium-Pensacola<br />\n5151 N. 9th Ave.\, Pensacola\, Fla.<br />\n<strong>Wednesday\, September 21 &bull\; 9:30 - 11:00 AM</strong><br />\n<strong><span style="font-size:14.0pt\;">Trusts and Wills: When\, How &amp\; Why</span></strong><br />\nNicholas R. Medley\, Elder Law Attorney<br />\nMedley Law Firm<br />\n&nbsp\;<br />\n<span style="font-family:myriadpro-semibold\;"><span style="font-size:10.0pt\;">Setting up a trust may help you avoid probate and reduce estate taxes. Find out what can trigger</span></span><br />\n<span style="font-family:myriadpro-semibold\;"><span style="font-size:10.0pt\;">probate\, how to avoid &ldquo\;trust mills\,&rdquo\; and why you should always use an attorney to assist you. This</span></span><br />\n<span style="font-family:myriadpro-semibold\;"><span style="font-size:10.0pt\;">informative program will educate you about various types of trusts for you and your heirs.</span></span>
LOCATION:
UID:e.2219.9191
SEQUENCE:3
DTSTAMP:20260421T074244Z
URL:http://business.gulfbreezechamber.com/events/details/trusts-and-wills-when-how-why-9191
END:VEVENT

END:VCALENDAR
