BEGIN:VCALENDAR
VERSION:2.0
PRODID:-//ChamberMaster//Event Calendar 2.0//EN
METHOD:PUBLISH
X-PUBLISHED-TTL:P3D
REFRESH-INTERVAL:P3D
CALSCALE:GREGORIAN
BEGIN:VEVENT
DTSTART;VALUE=DATE:20250425
DTEND;VALUE=DATE:20250426
TRANSP:TRANSPARENT
X-MICROSOFT-CDO-ALLDAYEVENT:TRUE
SUMMARY:1st Annual Golfing with Gatsby Charity Golf Tournament
DESCRIPTION:Guys and Gals\, Join us for the First Annual Golfing with Gatsby on Friday\, April 25th\, at Tiger Point Golf Club. This premier tournament benefits 4EVR DEZ\, supporting its mission while delivering a day of sport\, camaraderie\, and roaring good fun. So grab your clubs\, old sport\, and let's tee off for a purpose! Included in Registration: $ 500 (4 Person Team) Shot Gun Start Four Person Scramble Range Balls Breakfast and Boxed Lunch Beverages Hole-In-One Opportunity Sponsored by Kool Karts Longest Drive Closest to the Pin Tournament T-shirt Swag Bag Additional Opportunities: Mulligan Packages Raffle Tickets 50/50 Raffle Poker Run Putting Contest Special Features: Hole-In-One Prize - Club Car Onward (a 4 Passenger Lifted Golf Cart) Sponsored by Kool Karts Valued at over $14\,00 Cigar Bar Presented by Ash & Air
X-ALT-DESC;FMTTYPE=text/html:Guys and Gals\, Join us for the First Annual Golfing with Gatsby on Friday\, April 25th\, at Tiger Point Golf Club. This premier tournament benefits 4EVR DEZ\, supporting its mission while delivering a day of sport\, camaraderie\, and roaring good fun. So grab your clubs\, old sport\, and let&rsquo\;s tee off for a purpose! Included in Registration: $ 500 (4 Person Team) Shot Gun Start Four Person Scramble Range Balls Breakfast and Boxed Lunch Beverages Hole-In-One Opportunity Sponsored by Kool Karts Longest Drive Closest to the Pin Tournament T-shirt Swag Bag Additional Opportunities: Mulligan Packages Raffle Tickets 50/50 Raffle Poker Run Putting Contest Special Features: Hole-In-One Prize - Club Car Onward (a 4 Passenger Lifted Golf Cart) Sponsored by Kool Karts Valued at over $14\,00 Cigar Bar Presented by Ash &amp\; Air
LOCATION:Tiger Point Golf Course
UID:e.2219.30925
SEQUENCE:3
DTSTAMP:20260422T091824Z
URL:https://business.gulfbreezechamber.com/events/details/1st-annual-golfing-with-gatsby-charity-golf-tournament-30925
END:VEVENT

END:VCALENDAR
