BEGIN:VCALENDAR
VERSION:2.0
PRODID:-//ChamberMaster//Event Calendar 2.0//EN
METHOD:PUBLISH
X-PUBLISHED-TTL:P3D
REFRESH-INTERVAL:P3D
CALSCALE:GREGORIAN
BEGIN:VEVENT
DTSTART:20230714T140000Z
DTEND:20230715T190000Z
X-MICROSOFT-CDO-ALLDAYEVENT:FALSE
SUMMARY:2023 Autism Pensacola Sensory Street
DESCRIPTION:Sensory Street is a free community event for children of all ages that offers interactive exhibits providing hands-on play to help foster sensory processing and to develop skills and familiarity with common experiences. Booths replicate the activities of playing music\, shopping in a market\, planting a garden\, visiting the doctor\, understanding electricity\, making crafts\, and more.
X-ALT-DESC;FMTTYPE=text/html:Sensory Street is a free community event for children of all ages that offers interactive exhibits providing hands-on play to help foster sensory processing and to develop skills and familiarity with common experiences. Booths replicate the activities of playing music\, shopping in a market\, planting a garden\, visiting the doctor\, understanding electricity\, making crafts\, and more.
LOCATION:Downtown Historic Museum of Commerce\, 201 E. Zaragoza Street\, Downtown Pensacola 32502
UID:e.2219.28758
SEQUENCE:3
DTSTAMP:20260420T042417Z
URL:https://business.gulfbreezechamber.com/events/details/2023-autism-pensacola-sensory-street-28758
END:VEVENT

END:VCALENDAR
