BEGIN:VCALENDAR
VERSION:2.0
PRODID:-//ChamberMaster//Event Calendar 2.0//EN
METHOD:PUBLISH
X-PUBLISHED-TTL:P3D
REFRESH-INTERVAL:P3D
CALSCALE:GREGORIAN
BEGIN:VEVENT
DTSTART:20230421T170000Z
DTEND:20230423T050000Z
X-MICROSOFT-CDO-ALLDAYEVENT:FALSE
SUMMARY:21st Annual Crawfish Festival
DESCRIPTION:
X-ALT-DESC;FMTTYPE=text/html:
LOCATION:
UID:e.2219.28632
SEQUENCE:3
DTSTAMP:20260421T085140Z
URL:https://business.gulfbreezechamber.com/events/details/21st-annual-crawfish-festival-28632
END:VEVENT

END:VCALENDAR
