BEGIN:VCALENDAR
VERSION:2.0
PRODID:-//ChamberMaster//Event Calendar 2.0//EN
METHOD:PUBLISH
X-PUBLISHED-TTL:P3D
REFRESH-INTERVAL:P3D
CALSCALE:GREGORIAN
BEGIN:VEVENT
DTSTART:20230422T210000Z
DTEND:20230423T000000Z
X-MICROSOFT-CDO-ALLDAYEVENT:FALSE
SUMMARY:2nd Annual Pensacola Beach Beer Fest
DESCRIPTION:Join us on Pensacola Beach for the second annual Pensacola Beach Beer Fest at Hampton Inn. Thirteen different craft breweries will be serving up their sudsy creations with a view overlooking the beautiful Gulf of Mexico.
X-ALT-DESC;FMTTYPE=text/html:Join us on Pensacola Beach for the second annual Pensacola Beach Beer Fest at Hampton Inn. Thirteen different craft breweries will be serving up their sudsy creations with a view overlooking the beautiful Gulf of Mexico.
LOCATION:Hampton Inn Pensacola Beach 2 Via De Luna Drive Pensacola Beach\, FL 32561
UID:e.2219.28654
SEQUENCE:3
DTSTAMP:20260421T085320Z
URL:https://business.gulfbreezechamber.com/events/details/2nd-annual-pensacola-beach-beer-fest-28654
END:VEVENT

END:VCALENDAR
