BEGIN:VCALENDAR
VERSION:2.0
PRODID:-//ChamberMaster//Event Calendar 2.0//EN
METHOD:PUBLISH
X-PUBLISHED-TTL:P3D
REFRESH-INTERVAL:P3D
CALSCALE:GREGORIAN
BEGIN:VEVENT
DTSTART:20230929T180000Z
DTEND:20230929T230000Z
X-MICROSOFT-CDO-ALLDAYEVENT:FALSE
SUMMARY:3rd Annual Pete Moore Memorial Classic Golf Tournament
DESCRIPTION:Join us in our Annual Pete Moore Memorial Classic Golf Tournament! It's a fun day and it's "FORE" the kids.
X-ALT-DESC;FMTTYPE=text/html:Join us in our Annual Pete Moore Memorial Classic Golf Tournament! It&#39\;s a fun day and it&#39\;s &quot\;FORE&quot\; the kids.&nbsp\;
LOCATION:The Club at Hidden Creek 3070 PGA Blvd Navarre\, FL 32566
UID:e.2219.29005
SEQUENCE:3
DTSTAMP:20260420T001449Z
URL:https://business.gulfbreezechamber.com/events/details/3rd-annual-pete-moore-memorial-classic-golf-tournament-29005
END:VEVENT

END:VCALENDAR
