BEGIN:VCALENDAR
VERSION:2.0
PRODID:-//ChamberMaster//Event Calendar 2.0//EN
METHOD:PUBLISH
X-PUBLISHED-TTL:P3D
REFRESH-INTERVAL:P3D
CALSCALE:GREGORIAN
BEGIN:VEVENT
DTSTART:20250619T160000Z
DTEND:20250619T230000Z
X-MICROSOFT-CDO-ALLDAYEVENT:FALSE
SUMMARY:4th Annual Childhood Cancer Awareness Rally and Ride
DESCRIPTION:??? Mark your calendars! ???\n\nJoin us for the Childhood Cancer Awareness Rally and Ride hosted by American Legion Post 378 on Saturday\, September 6\, 2025   a powerful day of unity\, remembrance\, and support for kids fighting cancer. ??\n\n??? Ride with purpose   Bikes\, Jeeps\, and classic cars welcome!\n\n?? Live music\, ??? raffles\, ?? food & drink specials\, ?? games\, vendors\, and more await at our family-friendly after party.\n\n?? Event Highlights:\n\n  9:30 AM   Registration at Post 378\n\n  11:00 AM   Kickstands Up\n\n  11:30 AM   Graffiti Bridge Memorial\n\n  12:30 PM   Children's Hospital Visit\n\n  3:00 PM   After Party at the Post!\n\n?? $25 Rider/Driver | $15 Passenger\n\n(Proceeds support childhood cancer awareness initiatives)\n\n??? Want to get involved?\n\nWe're currently accepting sponsors and vendors!\n\n?? Contact Darra Flanagan at 919-889-9506 or darraflanagan@gmail.com for more information.\n\nLet's ride for a reason. Let's ride for the kids. ??\n\n#RallyAndRide #ChildhoodCancerAwareness #BaylieStrong #Post378 #EverForward
X-ALT-DESC;FMTTYPE=text/html:<p>??? <strong>Mark your calendars!</strong> ???<br />\nJoin us for the <strong>Childhood Cancer Awareness Rally and Ride</strong> hosted by <strong>American Legion Post 378</strong> on <strong>Saturday\, September 6\, 2025</strong> &mdash\; a powerful day of unity\, remembrance\, and support for kids fighting cancer. ??</p>\n\n<p>??? <strong>Ride with purpose</strong> &ndash\; Bikes\, Jeeps\, and classic cars welcome!<br />\n?? Live music\, ??? raffles\, ?? food &amp\; drink specials\, ?? games\, vendors\, and more await at our <strong>family-friendly after party</strong>.</p>\n\n<p>?? <strong>Event Highlights</strong>:<br />\n&bull\; 9:30 AM &ndash\; Registration at Post 378<br />\n&bull\; 11:00 AM &ndash\; Kickstands Up<br />\n&bull\; 11:30 AM &ndash\; Graffiti Bridge Memorial<br />\n&bull\; 12:30 PM &ndash\; Children&rsquo\;s Hospital Visit<br />\n&bull\; 3:00 PM &ndash\; After Party at the Post!</p>\n\n<p>?? $25 Rider/Driver | $15 Passenger<br />\n(Proceeds support childhood cancer awareness initiatives)</p>\n\n<p>??? <strong>Want to get involved?</strong><br />\nWe&#39\;re currently accepting <strong>sponsors and vendors</strong>!<br />\n?? Contact Darra Flanagan at 919-889-9506 or darraflanagan@gmail.com for more information.</p>\n\n<p>Let&rsquo\;s ride for a reason. Let&rsquo\;s ride for the kids. ??<br />\n#RallyAndRide #ChildhoodCancerAwareness #BaylieStrong #Post378 #EverForward</p>\n
LOCATION:American Legion Post 378 4656 Gulf Breeze Parkway Gulf Breeze\, FL 32563
UID:e.2219.31453
SEQUENCE:3
DTSTAMP:20260419T164325Z
URL:https://business.gulfbreezechamber.com/events/details/4th-annual-childhood-cancer-awareness-rally-and-ride-31453
END:VEVENT

END:VCALENDAR
