BEGIN:VCALENDAR
VERSION:2.0
PRODID:-//ChamberMaster//Event Calendar 2.0//EN
METHOD:PUBLISH
X-PUBLISHED-TTL:P3D
REFRESH-INTERVAL:P3D
CALSCALE:GREGORIAN
BEGIN:VEVENT
DTSTART;VALUE=DATE:20250517
DTEND;VALUE=DATE:20250519
TRANSP:TRANSPARENT
X-MICROSOFT-CDO-ALLDAYEVENT:TRUE
SUMMARY:50th Anniversary of the Gulf Breeze Optimist Club Family Fishing Rodeo
DESCRIPTION:May 17-18th\, 2015\, at Shoreline Park\, Gulf Breeze.\n\nScales open at 2pm close at 5pm each day\n\nPrizes awarded after the scales close on Sunday.  \n\nFree youth fishing clinic Sunday 10am\, 11am or noon.  \n\nMust register to participate in the clinic or the rodeo by\n\nMay 17th at 8am.
X-ALT-DESC;FMTTYPE=text/html:<span style="color:#0B5394\;"><span style="font-family:comic sans ms\;"><span style="font-size:18.0pt\;">May 17-18th\, 2015\, at Shoreline Park\, Gulf Breeze.</span></span></span><br />\n<span style="color:#0B5394\;"><span style="font-family:comic sans ms\;"><span style="font-size:18.0pt\;">Scales open at 2pm close at 5pm each day</span></span></span><br />\n<span style="color:#0B5394\;"><span style="font-family:comic sans ms\;"><span style="font-size:18.0pt\;">Prizes awarded after the scales close on Sunday.&nbsp\;&nbsp\;</span></span></span><br />\n<span style="color:#0B5394\;"><span style="font-family:comic sans ms\;"><span style="font-size:18.0pt\;">Free youth fishing clinic Sunday 10am\, 11am or noon.&nbsp\;&nbsp\;</span></span></span><br />\n<span style="color:#0B5394\;"><span style="font-family:comic sans ms\;"><span style="font-size:18.0pt\;">Must register to participate in the clinic or the rodeo by</span></span></span><br />\n<span style="color:#0B5394\;"><span style="font-family:comic sans ms\;"><span style="font-size:18.0pt\;">May 17th at 8am.&nbsp\;</span></span></span><br />\n&nbsp\;
LOCATION:Shoreline Park Gulf Breeze
UID:e.2219.31186
SEQUENCE:3
DTSTAMP:20260419T132550Z
URL:https://business.gulfbreezechamber.com/events/details/50th-anniversary-of-the-gulf-breeze-optimist-club-family-fishing-rodeo-31186
END:VEVENT

END:VCALENDAR
