BEGIN:VCALENDAR
VERSION:2.0
PRODID:-//ChamberMaster//Event Calendar 2.0//EN
METHOD:PUBLISH
X-PUBLISHED-TTL:P3D
REFRESH-INTERVAL:P3D
CALSCALE:GREGORIAN
BEGIN:VEVENT
DTSTART:20241221T200000Z
DTEND:20241221T220000Z
X-MICROSOFT-CDO-ALLDAYEVENT:FALSE
SUMMARY:Adventures with Santa at Laguna's
DESCRIPTION:Create magical moments this holiday season at Laguna's with Adventures with Santa on Nov. 30th and Dec. 21st! Bring your holiday wishes and enjoy some jolly fun with Santa himself. \n\n\n\nFor details visit us online\, https://pimg.fyi/adventures-with-santa-2024-info.\n\n \n\nCome Enjoy:\n\nPark Activities\n\nFestive Food & Beverages*\n\nHangout with Santa\n\n& More!\n\n \n\nA PARK PASS is required to participate in our Adventures with Santa festivities. Food and beverages are not included with the purchase of a Park Pass. \n\n \n\nPark Passes for Adventures with Santa will be available at the ticket booth on Nov. 30th & Dec 21st.
X-ALT-DESC;FMTTYPE=text/html:<p><span style="color:rgb(34\, 34\, 34)\; font-size:12pt">Create magical moments this holiday season at Laguna&rsquo\;s with&nbsp\;</span><em><strong>Adventures with Santa</strong></em><span style="color:rgb(34\, 34\, 34)\; font-size:12pt"><strong><em>&nbsp\;</em>on Nov. 30th and Dec. 21st</strong>! Bring your holiday wishes and enjoy some jolly fun with Santa himself.&nbsp\;</span><br />\n<br />\n<span style="color:rgb(0\, 0\, 0)\; font-size:12pt">For details visit us online\,&nbsp\;<a href="https://pimg.fyi/adventures-with-santa-2024-info" style="color: rgb(0\, 38\, 99)\; box-sizing: border-box\; background-color: transparent\; text-decoration-line: none\; user-select: auto\;"><span style="background-color:transparent\; color:rgb(17\, 85\, 204)\; font-size:11pt">https://pimg.fyi/adventures-with-santa-2024-info</span></a>.</span></p>\n\n<p>&nbsp\;</p>\n\n<p><span style="background-color:transparent\; color:rgb(0\, 0\, 0)\; font-size:12pt"><strong>Come Enjoy:</strong></span></p>\n\n<p><span style="background-color:transparent\; color:rgb(0\, 0\, 0)\; font-size:12pt">Park Activities</span></p>\n\n<p><span style="background-color:transparent\; color:rgb(0\, 0\, 0)\; font-size:12pt">Festive Food &amp\; Beverages*</span></p>\n\n<p><span style="background-color:transparent\; color:rgb(0\, 0\, 0)\; font-size:12pt">Hangout with Santa</span></p>\n\n<p><span style="background-color:transparent\; color:rgb(0\, 0\, 0)\; font-size:12pt">&amp\; More!</span></p>\n\n<p>&nbsp\;</p>\n\n<p><span style="background-color:transparent\; color:rgb(0\, 0\, 0)\; font-size:12pt"><strong>A PARK PASS is required</strong>&nbsp\;to participate in our Adventures with Santa festivities.&nbsp\;<em><strong>Food and beverages are not included with the purchase of a Park Pass.&nbsp\;</strong></em></span></p>\n\n<p>&nbsp\;</p>\n\n<p><span style="background-color:transparent\; color:rgb(0\, 0\, 0)\; font-size:12pt">Park Passes for Adventures with Santa will be available at the ticket booth on Nov. 30th &amp\; Dec 21st.</span></p>\n
LOCATION:
UID:e.2219.30197
SEQUENCE:3
DTSTAMP:20260420T022444Z
URL:https://business.gulfbreezechamber.com/events/details/adventures-with-santa-at-laguna-s-12-21-2024-30197
END:VEVENT

END:VCALENDAR
