BEGIN:VCALENDAR
VERSION:2.0
PRODID:-//ChamberMaster//Event Calendar 2.0//EN
METHOD:PUBLISH
X-PUBLISHED-TTL:P3D
REFRESH-INTERVAL:P3D
CALSCALE:GREGORIAN
BEGIN:VEVENT
DTSTART:20250502T203000Z
DTEND:20250502T213000Z
X-MICROSOFT-CDO-ALLDAYEVENT:FALSE
SUMMARY:American Legion 378 Ribbon Cutting
DESCRIPTION:Ribbon Cutting Celebration!\n\nJoin us as we celebrate the Grand Opening of the new location for American Legion Post 378!   \n\nCome show your support for this incredible organization that serves our veterans and community. Let's give them a warm Gulf Breeze welcome to their new home!
X-ALT-DESC;FMTTYPE=text/html:<p data-end="43" data-start="0"><strong data-end="36" data-start="5">Ribbon Cutting Celebration!</strong></p>\n\n<p data-end="148" data-start="45">Join us as we celebrate the <strong data-end="140" data-start="73">Grand Opening of the new location for American Legion Post 378!</strong> &#127482\;&#127480\;</p>\n\n<p data-end="403" data-start="244">Come show your support for this incredible organization that serves our veterans and community. Let&rsquo\;s give them a warm Gulf Breeze welcome to their new home!</p>\n
LOCATION:4656 Gulf Breeze Parkway Gulf Breeze\, FL 32563
UID:e.2219.31147
SEQUENCE:3
DTSTAMP:20260419T120853Z
URL:https://business.gulfbreezechamber.com/events/details/american-legion-378-ribbon-cutting-31147
END:VEVENT

END:VCALENDAR
