BEGIN:VCALENDAR
VERSION:2.0
PRODID:-//ChamberMaster//Event Calendar 2.0//EN
METHOD:PUBLISH
X-PUBLISHED-TTL:P3D
REFRESH-INTERVAL:P3D
CALSCALE:GREGORIAN
BEGIN:VEVENT
DTSTART:20230407T150000Z
DTEND:20230407T163000Z
X-MICROSOFT-CDO-ALLDAYEVENT:FALSE
SUMMARY:Cadence Bank welcomes Operation Hope
DESCRIPTION:Cadence Bank has partnered with Operation Hope.  Operation Hope will be working out of Cadence Bank Branch.  Light snacks\, drinks and door prizes\n\nRibbon Cutting is at 11:00am
X-ALT-DESC;FMTTYPE=text/html:Cadence Bank has partnered with Operation Hope.&nbsp\; Operation Hope will be working out of Cadence Bank Branch.&nbsp\; Light snacks\, drinks and door prizes<br />\nRibbon Cutting is at 11:00am<br />\n&nbsp\;
LOCATION:4800 Bayou Blvd Pensacola\, Fl 32503
UID:e.2219.28663
SEQUENCE:3
DTSTAMP:20260421T084759Z
URL:https://business.gulfbreezechamber.com/events/details/cadence-bank-welcomes-operation-hope-28663
END:VEVENT

END:VCALENDAR
