BEGIN:VCALENDAR
VERSION:2.0
PRODID:-//ChamberMaster//Event Calendar 2.0//EN
METHOD:PUBLISH
X-PUBLISHED-TTL:P3D
REFRESH-INTERVAL:P3D
CALSCALE:GREGORIAN
BEGIN:VEVENT
DTSTART:20200320T170000Z
DTEND:20200322T170000Z
X-MICROSOFT-CDO-ALLDAYEVENT:FALSE
SUMMARY:CANCELED Smokin' in the Square
DESCRIPTION:11th annual Smokin' in the Square is a professional BBQ competition dedicated to raising money for our annually selected charities. This is a family friendly event so come on out and have some fun!!
X-ALT-DESC;FMTTYPE=text/html:<span>11th annual Smokin&rsquo\; in the Square is a professional BBQ competition dedicated to raising money for our annually selected charities. This is a family friendly event so come on out and have some fun!!</span>
LOCATION:Seville Square Park 301 S Alcaniz Street Pensacola\, FL 32502
UID:e.2219.20660
SEQUENCE:3
DTSTAMP:20260419T204952Z
URL:https://business.gulfbreezechamber.com/events/details/canceled-smokin-in-the-square-20660
END:VEVENT

END:VCALENDAR
