BEGIN:VCALENDAR
VERSION:2.0
PRODID:-//ChamberMaster//Event Calendar 2.0//EN
METHOD:PUBLISH
X-PUBLISHED-TTL:P3D
REFRESH-INTERVAL:P3D
CALSCALE:GREGORIAN
BEGIN:VEVENT
DTSTART:20230506T200000Z
DTEND:20230507T000000Z
X-MICROSOFT-CDO-ALLDAYEVENT:FALSE
SUMMARY:Cinco de Margo
DESCRIPTION:Join us for Latin-Inspired foods\, drinks\,\n\nLive music\, salsa dancing\, & more fun!\n\nWe will be raffling prizes\, including a grand prize of\n\n1 night stay at the Hampton!\n\nMargarita competition Best dish competition  \n\nSalsa dancing competition   Professional Folk Dance  \n\nTaco eating contest   Raffle prizes   Henna tattoos  \n\nCaricatures   Charitable donation
X-ALT-DESC;FMTTYPE=text/html:Join us for Latin-Inspired foods\, drinks\,<br />\nLive music\, salsa dancing\, &amp\; more fun!<br />\nWe will be raffling prizes\, including a grand prize of<br />\n1 night stay at the Hampton!<br />\nMargarita competition Best dish competition &bull\;<br />\nSalsa dancing competition &bull\; Professional Folk Dance &bull\;<br />\nTaco eating contest &bull\; Raffle prizes &bull\; Henna tattoos &bull\;<br />\nCaricatures &bull\; Charitable donation
LOCATION:Hampton Pensacola Beach
UID:e.2219.28672
SEQUENCE:3
DTSTAMP:20260421T101756Z
URL:https://business.gulfbreezechamber.com/events/details/cinco-de-margo-28672
END:VEVENT

END:VCALENDAR
