BEGIN:VCALENDAR
VERSION:2.0
PRODID:-//ChamberMaster//Event Calendar 2.0//EN
METHOD:PUBLISH
X-PUBLISHED-TTL:P3D
REFRESH-INTERVAL:P3D
CALSCALE:GREGORIAN
BEGIN:VEVENT
DTSTART:20230610T160000Z
DTEND:20230610T190000Z
X-MICROSOFT-CDO-ALLDAYEVENT:FALSE
SUMMARY:Community Event with The Fairpointe
DESCRIPTION:Please join The Fairpointe at Gulf Breeze for our community event Saturday\, June 10th from 11AM-2PM. We will have food trucks\, a raffle\, games\, and open swim at our resort style pool. All are welcome!
X-ALT-DESC;FMTTYPE=text/html:Please join The Fairpointe at Gulf Breeze for our community event Saturday\, June 10th from 11AM-2PM. We will have food trucks\, a raffle\, games\, and open swim at our resort style pool. All are welcome!
LOCATION:The Fairpointe at Gulf Breeze
UID:e.2219.28719
SEQUENCE:3
DTSTAMP:20260421T120049Z
URL:https://business.gulfbreezechamber.com/events/details/community-event-with-the-fairpointe-28719
END:VEVENT

END:VCALENDAR
