BEGIN:VCALENDAR
VERSION:2.0
PRODID:-//ChamberMaster//Event Calendar 2.0//EN
METHOD:PUBLISH
X-PUBLISHED-TTL:P3D
REFRESH-INTERVAL:P3D
CALSCALE:GREGORIAN
BEGIN:VEVENT
DTSTART:20230422T150000Z
DTEND:20230422T190000Z
X-MICROSOFT-CDO-ALLDAYEVENT:FALSE
SUMMARY:Construction Junction Sponsored by Step One Automotive Group
DESCRIPTION:Step One Automotive Group is proud to partner with the FWB PD and sponsor Construction Junction!\n\nConstruction Junction is the Fort Walton Beach Police Department's larges free community event\, and it is back on April 22.\n\nThis event is a joint event between law enforcement\, civilian\, and military organizations.\n\nThe event is free to the public\, with hot dogs and hamburgers served all day. But importantly\, guests will be able to see:\n\nMilitary vehicles\n\nPolice vehicles\n\nTow trucks\n\nDump tucks\n\nHelicopters\n\nK-9 demonstrations\n\nFire trucks\n\nand more\n\nThere will be a live DJ and all guests will get a ticket at the door for a free raffle prize. Door prizes are expected to be done every 30 minutes.
X-ALT-DESC;FMTTYPE=text/html:<p style="text-align:center">Step One Automotive Group is proud to partner with the FWB PD and sponsor Construction Junction!</p>\n\n<p style="text-align:center">Construction Junction is the Fort Walton Beach Police Department&rsquo\;s larges free community event\, and it is back on April 22.<br />\nThis event is a joint event between law enforcement\, civilian\, and military organizations.<br />\nThe event is free to the public\, with hot dogs and hamburgers served all day. But importantly\, guests will be able to see:</p>\n\n<p style="text-align:center">Military vehicles<br />\nPolice vehicles<br />\nTow trucks<br />\nDump tucks<br />\nHelicopters<br />\nK-9 demonstrations<br />\nFire trucks<br />\nand more<br />\nThere will be a live DJ and all guests will get a ticket at the door for a free raffle prize. Door prizes are expected to be done every 30 minutes.</p>\n
LOCATION:Northwest Florida Fairgrounds 1958 Lewis Turner Blvd\, Fort Walton Beach\, FL 32547
UID:e.2219.28659
SEQUENCE:3
DTSTAMP:20260421T091428Z
URL:https://business.gulfbreezechamber.com/events/details/construction-junction-sponsored-by-step-one-automotive-group-28659
END:VEVENT

END:VCALENDAR
