BEGIN:VCALENDAR
VERSION:2.0
PRODID:-//ChamberMaster//Event Calendar 2.0//EN
METHOD:PUBLISH
X-PUBLISHED-TTL:P3D
REFRESH-INTERVAL:P3D
CALSCALE:GREGORIAN
BEGIN:VEVENT
DTSTART:20250405T140000Z
DTEND:20250405T170000Z
X-MICROSOFT-CDO-ALLDAYEVENT:FALSE
SUMMARY:Cool Rides at Coastline
DESCRIPTION:Details\n\n\n\n\nWelcome to COOL RIDES at COASTLINE! \n\nAttendance is free--no registration is required.\n\nShow up ready to enjoy some cool cars and hot coffee!\n\n\n\nANYTHING THAT GETS YOU THERE IN STYLE!\n\nCars . Trucks . Bikes . Scooters . Boats \n\n\n\nREGISTER YOUR VEHICLE INTO THE SHOW HERE!\n\nFee: $1\n\nTshirt: $20 (prepaid only)\n\n\n\nLOCATION:  1122 Oriole Beach Rd\, Gulf Breeze FL 32561\n\nDATE: Saturday\, April 5\, 2025\n\nTIME: 9AM - Noon
X-ALT-DESC;FMTTYPE=text/html:<h2>Details</h2>\n\n<div>\n<div>\n<div>\n<p><strong><em>Welcome to COOL RIDES at COASTLINE!&nbsp\;</em></strong><br />\n<em>Attendance is free--no registration is required.<br />\nShow up ready to enjoy some cool cars and hot coffee!</em><br />\n<br />\n<strong><em>ANYTHING THAT GETS YOU THERE IN STYLE!</em></strong><br />\n<em>Cars . Trucks . Bikes . Scooters . Boats&nbsp\;</em><br />\n<br />\n<strong>REGISTER YOUR VEHICLE INTO THE SHOW HERE!</strong><br />\nFee: $1<br />\nTshirt: $20 (prepaid only)<br />\n<br />\n<strong>LOCATION:&nbsp\;&nbsp\;</strong>1122 Oriole Beach Rd\, Gulf Breeze FL 32561<br />\n<strong>DATE:</strong>&nbsp\;Saturday\, April 5\, 2025<br />\n<strong>TIME:&nbsp\;</strong>9AM - Noon<br />\n<br />\n&nbsp\;</p>\n</div>\n</div>\n</div>\n
LOCATION:Coastline Calvary Chapel Gulf Breeze 1122 Oriole Beach Rd. Gulf Breeze FL 32563
UID:e.2219.31145
SEQUENCE:3
DTSTAMP:20260419T180716Z
URL:https://business.gulfbreezechamber.com/events/details/cool-rides-at-coastline-31145
END:VEVENT

END:VCALENDAR
