BEGIN:VCALENDAR
VERSION:2.0
PRODID:-//ChamberMaster//Event Calendar 2.0//EN
METHOD:PUBLISH
X-PUBLISHED-TTL:P3D
REFRESH-INTERVAL:P3D
CALSCALE:GREGORIAN
BEGIN:VEVENT
DTSTART:20230428T210000Z
DTEND:20230429T010000Z
X-MICROSOFT-CDO-ALLDAYEVENT:FALSE
SUMMARY:Crystallized Beauty Grand Opening and Ribbon Cutting
DESCRIPTION:Official grand opening and Ribbon Cutting for Crystallized Beauty! There will be food\, and drinks. We will also have raffles and gift bags for the first 50 guests! There will be botox and more  come see us!
X-ALT-DESC;FMTTYPE=text/html:<span style="color: rgb(5\, 5\, 5)\; font-family: &quot\;Segoe UI Historic&quot\;\, &quot\;Segoe UI&quot\;\, Helvetica\, Arial\, sans-serif\; font-size: 15px\; font-style: normal\; font-variant-ligatures: normal\; font-variant-caps: normal\; font-weight: 400\; letter-spacing: normal\; orphans: 2\; text-align: start\; text-indent: 0px\; text-transform: none\; white-space: normal\; widows: 2\; word-spacing: 0px\; -webkit-text-stroke-width: 0px\; background-color: rgb(255\, 255\, 255)\; text-decoration-thickness: initial\; text-decoration-style: initial\; text-decoration-color: initial\; display: inline !important\; float: none\;">Official grand opening and Ribbon Cutting for Crystallized Beauty! There will be food\, and drinks. We will also have raffles and gift bags for the first 50 guests! There will be botox and more&hellip\; come see us!</span>
LOCATION:1101 Gulf Breeze Parkway
UID:e.2219.28651
SEQUENCE:3
DTSTAMP:20260421T085429Z
URL:https://business.gulfbreezechamber.com/events/details/crystallized-beauty-grand-opening-and-ribbon-cutting-28651
END:VEVENT

END:VCALENDAR
