BEGIN:VCALENDAR
VERSION:2.0
PRODID:-//ChamberMaster//Event Calendar 2.0//EN
METHOD:PUBLISH
X-PUBLISHED-TTL:P3D
REFRESH-INTERVAL:P3D
CALSCALE:GREGORIAN
BEGIN:VEVENT
DTSTART:20250614T210000Z
DTEND:20250614T230000Z
X-MICROSOFT-CDO-ALLDAYEVENT:FALSE
SUMMARY:Dad Jokes & Drafts
DESCRIPTION:Spend Father's Day weekend on the sand at Hideaway Beach Bar for Dad Jokes & Drafts on Saturday\, June 14. This all-ages event features a Perfect Plain Brewing tap takeover with deals on drafts all day\, food specials like the fully loaded Chicago Dog\, and a laid-back beachside vibe. From 4 to 6 PM\, join us for Dad Joke Trivia hosted by local comedian Dave Longval no sign-up required\, just show up with your team and your best pun-filled team name. The winning team takes home an "Ultimate Beach Day Pack" valued at over $400. Stick around after trivia for live music from Unfortunate Sons from 7 to 10 PM. With yard games\, beach volleyball\, and plenty of space to relax\, it's the perfect way to spend the day with your favorite people. Free entry. All ages welcome.
X-ALT-DESC;FMTTYPE=text/html:Spend Father&rsquo\;s Day weekend on the sand at Hideaway Beach Bar for Dad Jokes &amp\; Drafts on Saturday\, June 14. This all-ages event features a Perfect Plain Brewing tap takeover with deals on drafts all day\, food specials like the fully loaded Chicago Dog\, and a laid-back beachside vibe. From 4 to 6 PM\, join us for Dad Joke Trivia hosted by local comedian Dave Longval&mdash\;no sign-up required\, just show up with your team and your best pun-filled team name. The winning team takes home an &ldquo\;Ultimate Beach Day Pack&rdquo\; valued at over $400. Stick around after trivia for live music from Unfortunate Sons from 7 to 10 PM. With yard games\, beach volleyball\, and plenty of space to relax\, it&rsquo\;s the perfect way to spend the day with your favorite people. Free entry. All ages welcome.
LOCATION:Hideaway Beach Bar 400 Quietwater Beach Road Pensacola Beach\, FL 32561
UID:e.2219.31438
SEQUENCE:3
DTSTAMP:20260419T163504Z
URL:https://business.gulfbreezechamber.com/events/details/dad-jokes-drafts-31438
END:VEVENT

END:VCALENDAR
