BEGIN:VCALENDAR
VERSION:2.0
PRODID:-//ChamberMaster//Event Calendar 2.0//EN
METHOD:PUBLISH
X-PUBLISHED-TTL:P3D
REFRESH-INTERVAL:P3D
CALSCALE:GREGORIAN
BEGIN:VEVENT
DTSTART:20250426T010000Z
DTEND:20250426T063000Z
X-MICROSOFT-CDO-ALLDAYEVENT:FALSE
SUMMARY:DJ Susan at Laguna's!
DESCRIPTION:Pensacola Beach\, get ready! DJ SUSAN is bringing the energy to our Spring Concert Series with an epic night of electrifying music on April 25th at Laguna's. Tickets are on sale now!\n\nDoors open at 8 PM\n\n18+ event\nGET TICKETS: https://pimg.fyi/lagunas-dj-susan-tix
X-ALT-DESC;FMTTYPE=text/html:<p><span style="color:rgb(0\, 0\, 0)\; font-family:montserrat\,sans-serif\; font-size:11pt">Pensacola Beach\, get ready! </span><strong>DJ SUSAN</strong><span style="color:rgb(0\, 0\, 0)\; font-family:montserrat\,sans-serif\; font-size:11pt"> is bringing the energy to our Spring Concert Series with an epic night of electrifying music on </span><strong>April 25th at Laguna&rsquo\;s</strong><span style="color:rgb(0\, 0\, 0)\; font-family:montserrat\,sans-serif\; font-size:11pt">. Tickets are on sale now!</span></p>\n\n<p><strong>Doors open at 8 PM</strong><br />\n<strong>18+ event</strong></p>\n<strong>GET TICKETS</strong><strong>: </strong><a href="https://pimg.fyi/lagunas-dj-susan-tix" style="text-decoration-line: none\;"><span style="background-color:transparent\; color:rgb(17\, 85\, 204)\; font-family:montserrat\,sans-serif\; font-size:11pt">https://pimg.fyi/lagunas-dj-susan-tix</span></a>
LOCATION:
UID:e.2219.30625
SEQUENCE:3
DTSTAMP:20260419T181047Z
URL:https://business.gulfbreezechamber.com/events/details/dj-susan-at-laguna-s-30625
END:VEVENT

END:VCALENDAR
