BEGIN:VCALENDAR
VERSION:2.0
PRODID:-//ChamberMaster//Event Calendar 2.0//EN
METHOD:PUBLISH
X-PUBLISHED-TTL:P3D
REFRESH-INTERVAL:P3D
CALSCALE:GREGORIAN
BEGIN:VEVENT
DTSTART;VALUE=DATE:20250420
DTEND;VALUE=DATE:20250421
TRANSP:TRANSPARENT
X-MICROSOFT-CDO-ALLDAYEVENT:TRUE
SUMMARY:Easter at Coastline Calvary Chapel Gulf Breeze
DESCRIPTION:COASTLINE INVITES YOU!\n\nThis Easter\, make plans to join us at Coastline as we \n\nOBSERVE\, on GOOD FRIDAY\n\nthe sacrifice Jesus Christ\, our Savior\,\n\nbore to save all of humankind\n\nAND\n\nCELEBRATE EASTER:\n\nthe resurrection of Jesus.\n\nWhen He defeated death and the grave\;\n\nBut--most importantly--the sin of all mankind\n\nthat separated us from our Creator.\n\n\n\n\n\n\n\n\n\n\n\nJoin us for the following events:\n\nPalm Sunday\, March 24 9&11AM\n\nGood Friday Communion Service at 6:30PM\n\nEaster Sunrise Service/Beach Baptism (Gulf Pavilion) at 6:30AM\n\nEaster Sunday Services at 8AM (abbreviated service)\n\nEaster Sunday Services (Full) at 9&11AM
X-ALT-DESC;FMTTYPE=text/html:<div>\n<div>\n<div>\n<div>\n<div>\n<h2 style="text-align:center">COASTLINE INVITES YOU!</h2>\n\n<p style="text-align:center">This Easter\, make plans to join us at Coastline as we&nbsp\;<br />\n<strong>OBSERVE\, on GOOD FRIDAY</strong><br />\nthe sacrifice Jesus Christ\, our Savior\,<br />\nbore to save all of humankind<br />\nAND<br />\n<strong>CELEBRATE EASTER:</strong><br />\nthe resurrection of Jesus.<br />\nWhen He defeated death and the grave\;<br />\nBut--most importantly--the sin of all mankind<br />\nthat separated us from our Creator.</p>\n</div>\n</div>\n</div>\n</div>\n</div>\n\n<div>\n<div>\n<div>\n<div>\n<div>\n<h2 style="text-align:center">Join us for the following events:</h2>\n\n<p style="text-align:center">Palm Sunday\, March 24 9&amp\;11AM</p>\n\n<p style="text-align:center">Good Friday Communion Service at 6:30PM</p>\n\n<p style="text-align:center">Easter Sunrise Service/Beach Baptism (Gulf Pavilion) at 6:30AM</p>\n\n<p style="text-align:center">Easter Sunday Services at 8AM (abbreviated service)</p>\n\n<p style="text-align:center">Easter Sunday Services (Full) at 9&amp\;11AM</p>\n</div>\n</div>\n</div>\n</div>\n</div>\n
LOCATION:Sunrise service is at Pensacola Beach main pavilion / parking lot. All other services are at 1122 Oriole Beach Rd. Gulf Breeze FL.
UID:e.2219.31175
SEQUENCE:3
DTSTAMP:20260419T200609Z
URL:https://business.gulfbreezechamber.com/events/details/easter-at-coastline-calvary-chapel-gulf-breeze-31175
END:VEVENT

END:VCALENDAR
