BEGIN:VCALENDAR
VERSION:2.0
PRODID:-//ChamberMaster//Event Calendar 2.0//EN
METHOD:PUBLISH
X-PUBLISHED-TTL:P3D
REFRESH-INTERVAL:P3D
CALSCALE:GREGORIAN
BEGIN:VEVENT
DTSTART:20250420T160000Z
DTEND:20250420T190000Z
X-MICROSOFT-CDO-ALLDAYEVENT:FALSE
SUMMARY:Easter Brunch
DESCRIPTION:Join us for a special Easter Sunday as The Wharf debuts its very first brunch service! While we're not offering a holiday-specific menu\, you'll enjoy all the delicious classics from our regular brunch lineup\, fresh\, flavorful\, and full of coastal charm. Whether you're gathering with family or meeting friends\, it's the perfect way to kick off your Easter celebrations with great food and waterfront vibes. This inaugural brunch will be served on Easter Sunday\, so don't miss your chance to be part of something new at The Wharf. Sip on mimosas\, dig into your favorites\, and enjoy the relaxed\, festive atmosphere we're known for. Reservations are recommended\, and seating is limited\, be sure to book your table early!
X-ALT-DESC;FMTTYPE=text/html:Join us for a special Easter Sunday as The Wharf debuts its very first brunch service! While we&#39\;re not offering a holiday-specific menu\, you&#39\;ll enjoy all the delicious classics from our regular brunch lineup\, fresh\, flavorful\, and full of coastal charm. Whether you&#39\;re gathering with family or meeting friends\, it&#39\;s the perfect way to kick off your Easter celebrations with great food and waterfront vibes. This inaugural brunch will be served on Easter Sunday\, so don&rsquo\;t miss your chance to be part of something new at The Wharf. Sip on mimosas\, dig into your favorites\, and enjoy the relaxed\, festive atmosphere we&rsquo\;re known for. Reservations are recommended\, and seating is limited\, be sure to book your table early!
LOCATION:The Wharf Fish & Oyster Company\, 400 Quietwater Beach Rd Unit 13\, Pensacola Beach\, FL 32561
UID:e.2219.31178
SEQUENCE:3
DTSTAMP:20260419T180716Z
URL:https://business.gulfbreezechamber.com/events/details/easter-brunch-04-20-2025-31178
END:VEVENT

END:VCALENDAR
