BEGIN:VCALENDAR
VERSION:2.0
PRODID:-//ChamberMaster//Event Calendar 2.0//EN
METHOD:PUBLISH
X-PUBLISHED-TTL:P3D
REFRESH-INTERVAL:P3D
CALSCALE:GREGORIAN
BEGIN:VEVENT
DTSTART;VALUE=DATE:20250418
DTEND;VALUE=DATE:20250419
TRANSP:TRANSPARENT
X-MICROSOFT-CDO-ALLDAYEVENT:TRUE
SUMMARY:Easter Movies at Laguna's!
DESCRIPTION:Hop on over to Laguna's on Friday\, April 18th for a day of Easter Movies on the Big Screen!\n\nMovies:\n\n\n	Peter Rabbit (PG) at 12 PM\n	Hop (PG) at 6 PM\n\n\nDon't forget the movie snacks*:\n\n\n	Popcorn\n	S'mores\n	Happy Hour Specials (4p - 7p)\n\n\nBring the whole crew and enjoy Easter fun by the beach!\n\n*Food & Beverage available for purchase.\n\nVIEW MORE TIKI DECK HAPPENINGS: https://pimg.fyi/lagunas-family-fun-events
X-ALT-DESC;FMTTYPE=text/html:<p>Hop on over to Laguna&rsquo\;s on Friday\, April 18th for a day of Easter Movies on the Big Screen!</p>\n\n<p><strong>Movies:</strong></p>\n\n<ul>\n	<li>Peter Rabbit (PG) at 12 PM</li>\n	<li>Hop (PG) at 6 PM</li>\n</ul>\n\n<p><strong>Don&rsquo\;t forget the movie snacks*:</strong></p>\n\n<ul>\n	<li>Popcorn</li>\n	<li>S&rsquo\;mores</li>\n	<li>Happy Hour Specials (4p - 7p)</li>\n</ul>\n\n<p>Bring the whole crew and enjoy Easter fun by the beach!</p>\n\n<p><em>*Food &amp\; Beverage available for purchase.</em></p>\n\n<p><strong>VIEW MORE TIKI DECK HAPPENINGS:</strong>&nbsp\;<a href="https://pimg.fyi/lagunas-family-fun-events">https://pimg.fyi/lagunas-family-fun-events</a></p>\n
LOCATION:
UID:e.2219.31153
SEQUENCE:3
DTSTAMP:20260419T182641Z
URL:https://business.gulfbreezechamber.com/events/details/easter-movies-at-laguna-s-31153
END:VEVENT

END:VCALENDAR
