BEGIN:VCALENDAR
VERSION:2.0
PRODID:-//ChamberMaster//Event Calendar 2.0//EN
METHOD:PUBLISH
X-PUBLISHED-TTL:P3D
REFRESH-INTERVAL:P3D
CALSCALE:GREGORIAN
BEGIN:VEVENT
DTSTART:20230728T120000Z
DTEND:20230728T180000Z
X-MICROSOFT-CDO-ALLDAYEVENT:FALSE
SUMMARY:Endless Summer Classic Chairty Golf Scramble
DESCRIPTION:Golf Scramble at Tiger Point Golf Club in order to raise funds for New Horizons For Heroes. A non-profit organization founded by a Army Veteran in order to aide Service Members that are transitioning into the civilian workforce. Though resume coaching\, interview coaching\, and job fairs with previously vetted military friendly employers.
X-ALT-DESC;FMTTYPE=text/html:Golf Scramble at Tiger Point Golf Club in order to raise funds for New Horizons For Heroes. A non-profit organization founded by a Army Veteran in order to aide Service Members that are transitioning into the civilian workforce. Though resume coaching\, interview coaching\, and job fairs with previously vetted military friendly employers.
LOCATION:Tiger Point Golf Club in Gulf Breeze\, FL
UID:e.2219.28983
SEQUENCE:3
DTSTAMP:20260420T041933Z
URL:https://business.gulfbreezechamber.com/events/details/endless-summer-classic-chairty-golf-scramble-28983
END:VEVENT

END:VCALENDAR
