BEGIN:VCALENDAR
VERSION:2.0
PRODID:-//ChamberMaster//Event Calendar 2.0//EN
METHOD:PUBLISH
X-PUBLISHED-TTL:P3D
REFRESH-INTERVAL:P3D
CALSCALE:GREGORIAN
BEGIN:VEVENT
DTSTART:20250628T160000Z
DTEND:20250628T210000Z
X-MICROSOFT-CDO-ALLDAYEVENT:FALSE
SUMMARY:FavorHouse Fundraiser at Shaka Bar
DESCRIPTION:Join us for FavorHouse fund raiser at the Shaka Bar in Pensacola Beach on Saturday June 28.\n\nDrop in any time between 11 am and 4 pm for a $20 BBQ plate or the $10 Bloody Mary Bar.\n\n\n\nEstablished in 1980\, FavorHouse of Northwest Florida is the only certified domestic violence center serving Escambia and Santa Rosa counties.
X-ALT-DESC;FMTTYPE=text/html:Join us for FavorHouse fund raiser at the Shaka Bar in Pensacola Beach on Saturday June 28.<br />\nDrop in any time between 11 am and 4 pm for a $20 BBQ plate or the $10 Bloody Mary Bar.<br />\n<br />\nEstablished in 1980\, <a href="https://www.favorhouse.org/">FavorHouse</a> of Northwest Florida is the only certified domestic violence center serving Escambia and Santa Rosa counties.
LOCATION:Shaka Bar\, 649 Pensacola Beach Blvd\, Pensacola Beach\, FL 32561
UID:e.2219.31456
SEQUENCE:3
DTSTAMP:20260419T164004Z
URL:https://business.gulfbreezechamber.com/events/details/favorhouse-fundraiser-at-shaka-bar-31456
END:VEVENT

END:VCALENDAR
