BEGIN:VCALENDAR
VERSION:2.0
PRODID:-//ChamberMaster//Event Calendar 2.0//EN
METHOD:PUBLISH
X-PUBLISHED-TTL:P3D
REFRESH-INTERVAL:P3D
CALSCALE:GREGORIAN
BEGIN:VEVENT
DTSTART:20250626T213000Z
DTEND:20250626T230000Z
X-MICROSOFT-CDO-ALLDAYEVENT:FALSE
SUMMARY:Florida SBDC at UWF Presents "Business Plan Canvas"
DESCRIPTION:Ready to unlock the secrets to a crystal-clear business strategy?\n\n \n\nImagine having your entire business plan condensed onto a single\, powerful page! Join us for an engaging and hands-on workshop led by experienced SBDC business consultant\, Jennifer Rohus\, where you'll dive into the Business Model Canvas.\n\n \n\nThis isn't just another dry lecture. You'll actively learn how to map out your business's vision\, strategy\, and operations in a way that's both simple and incredibly effective. Whether you're just starting your entrepreneurial journey\, navigating exciting growth\, or gearing up to seek funding\, this workshop is your roadmap to success.\n\n \n\nSpeaking of funding\, we'll also illuminate potential lending sources and show you how this foundational work with the Business Model Canvas can significantly boost your chances of securing the capital you need.\n\n \n\nDon't let this opportunity slip away! Sign up now and transform your business strategy into an actionable one-page powerhouse!
X-ALT-DESC;FMTTYPE=text/html:<p><span style="font-size:18px">Ready to unlock the secrets to a crystal-clear business strategy?</span></p>\n\n<p>&nbsp\;</p>\n\n<p><span style="font-size:18px">Imagine having your entire business plan condensed onto a single\, powerful page! Join us for an engaging and hands-on workshop led by experienced SBDC business consultant\, Jennifer Rohus\, where you&#39\;ll dive into the Business Model Canvas.</span></p>\n\n<p>&nbsp\;</p>\n\n<p><span style="font-size:18px">This isn&#39\;t just another dry lecture. You&#39\;ll actively learn how to map out your business&#39\;s vision\, strategy\, and operations in a way that&#39\;s both simple and incredibly effective. Whether you&#39\;re just starting your entrepreneurial journey\, navigating exciting growth\, or gearing up to seek funding\, this workshop is your roadmap to success.</span></p>\n\n<p>&nbsp\;</p>\n\n<p><span style="font-size:18px">Speaking of funding\, we&#39\;ll also illuminate potential lending sources and show you how this foundational work with the Business Model Canvas can significantly boost your chances of securing the capital you need.</span></p>\n\n<p>&nbsp\;</p>\n\n<p><span style="font-size:18px">Don&#39\;t let this opportunity slip away! Sign up now and transform your business strategy into an actionable one-page powerhouse!</span></p>\n
LOCATION:Greater Pensacola Chamber of Commerce 418 W Garden St\, CO:LAB Bldg\, 4th flr Pensacola\, FL 32501
UID:e.2219.31223
SEQUENCE:3
DTSTAMP:20260419T163927Z
URL:https://business.gulfbreezechamber.com/events/details/florida-sbdc-at-uwf-presents-business-plan-canvas-31223
END:VEVENT

END:VCALENDAR
