BEGIN:VCALENDAR
VERSION:2.0
PRODID:-//ChamberMaster//Event Calendar 2.0//EN
METHOD:PUBLISH
X-PUBLISHED-TTL:P3D
REFRESH-INTERVAL:P3D
CALSCALE:GREGORIAN
BEGIN:VEVENT
DTSTART:20230704T170000Z
DTEND:20230704T190000Z
X-MICROSOFT-CDO-ALLDAYEVENT:FALSE
SUMMARY:Free Pulled Pork for Members July 4th!
DESCRIPTION:American Legion Post 378 invites all members to join us to celebrate our freedom between 12PM and 2PM on July 4th! Interested in becoming a member? Stop on by and see what we're all about!\n\n \nJoin The American Legion\n\nIf you have served at least one day of active military duty since December 7\, 1941 and were honorably discharged or you are still serving active military duty honorably\, you are eligible for membership with The American Legion.\n \n\nOur Mission\n\n\nTo enhance the well-being of America's veterans\, their families\, our military\, and our communities by our devotion to mutual helpfulness. The American Legion's vision statement is "The American Legion: Veterans Strengthening America." The American Legion's value principles are as follows:\n\nA VETERAN IS A VETERAN - which means The American Legion embraces all current and former members of the military and endeavors to help them transition into their communities.\n\nSELFLESS SERVICE - which means The American Legion celebrates all who contribute to something larger than themselves and inspires others to serve and strengthen America.\n\nAMERICAN VALUES AND PATRIOTISM - which means The American Legion advocates for upholding and defending the United States Constitution\, equal justice and opportunity for everyone and discrimination against no one\, youth education\, responsible citizenship and honoring military service by observing and participating in memorial events.\n\nFAMILY AND COMMUNITY ENGAGEMENT - which means The American Legion meets the unique needs of local communities.\n\nADVANCING THE VISION - which means The American Legion educates\, mentors and leads new generations of Americans.\n\nHONOR THOSE WHO CAME BEFORE US - which means The American Legion pays perpetual respect for all past military sacrifices to ensure they are never forgotten by new generations.\n\nThe American Legion's motto is "Veterans Strengthening America."
X-ALT-DESC;FMTTYPE=text/html:American Legion Post 378 invites all members to join us to celebrate our freedom between 12PM and 2PM on July 4th! Interested in becoming a member? Stop on by and see what we&#39\;re all about!<br />\n&nbsp\;\n<h1><span style="font-size:14px">Join The American Legion</span></h1>\n\n<p>If you have served at least one day of active military duty since December 7\, 1941 and were honorably discharged or you are still serving active military duty honorably\, you are eligible for membership with The American Legion.</p>\n&nbsp\;\n\n<div>Our Mission</div>\n\n<div>\n<p>To enhance the well-being of America&#39\;s veterans\, their families\, our military\, and our communities by our devotion to mutual helpfulness. The American Legion&#39\;s vision statement is &quot\;The American Legion: Veterans Strengthening America.&quot\; The American Legion&#39\;s value principles are as follows:</p>\n\n<p><strong>A VETERAN IS A VETERAN</strong>&nbsp\;- which means The American Legion embraces all current and former members of the military and endeavors to help them transition into their communities.</p>\n\n<p><strong>SELFLESS SERVICE</strong>&nbsp\;- which means The American Legion celebrates all who contribute to something larger than themselves and inspires others to serve and strengthen America.</p>\n\n<p><strong>AMERICAN VALUES AND PATRIOTISM</strong>&nbsp\;- which means The American Legion advocates for upholding and defending the United States Constitution\, equal justice and opportunity for everyone and discrimination against no one\, youth education\, responsible citizenship and honoring military service by observing and participating in memorial events.</p>\n\n<p><strong>FAMILY AND COMMUNITY ENGAGEMENT</strong>&nbsp\;- which means The American Legion meets the unique needs of local communities.</p>\n\n<p><strong>ADVANCING THE VISION</strong>&nbsp\;- which means The American Legion educates\, mentors and leads new generations of Americans.</p>\n\n<p><strong>HONOR THOSE WHO CAME BEFORE US</strong>&nbsp\;- which means The American Legion pays perpetual respect for all past military sacrifices to ensure they are never forgotten by new generations.</p>\n\n<p>The American Legion&#39\;s motto is &quot\;Veterans Strengthening America.&quot\;<br />\n<br />\n&nbsp\;</p>\n</div>\n<br />\n&nbsp\;
LOCATION:American Legion Post 378 2712 Gulf Breeze Pkwy\, Gulf Breeze\, FL 32563
UID:e.2219.28773
SEQUENCE:3
DTSTAMP:20260420T041616Z
URL:https://business.gulfbreezechamber.com/events/details/free-pulled-pork-for-members-july-4th-28773
END:VEVENT

END:VCALENDAR
