BEGIN:VCALENDAR
VERSION:2.0
PRODID:-//ChamberMaster//Event Calendar 2.0//EN
METHOD:PUBLISH
X-PUBLISHED-TTL:P3D
REFRESH-INTERVAL:P3D
CALSCALE:GREGORIAN
BEGIN:VEVENT
DTSTART:20230622T130000Z
DTEND:20230622T210000Z
X-MICROSOFT-CDO-ALLDAYEVENT:FALSE
SUMMARY:Glow Event at Aqua Medical Spa
DESCRIPTION:Join us for our Glow event on Thursday\, June 22 at Aqua Medical Spa in Gulf Breeze! Get a Skintrinsiq treatment for only $150 ($175 retail value)\, and receive $50 off Obagi Medical retail purchased that day. Limited appointments are available from 8:00AM-4:00PM. Call (850) 733-5180 to schedule. Rules & restrictions apply. See staff or visit aquamedicalspa.com/specials-events/ for complete details.
X-ALT-DESC;FMTTYPE=text/html:Join us for our Glow event on Thursday\, June 22 at Aqua Medical Spa in Gulf Breeze! Get a Skintrinsiq treatment for only $150 ($175 retail value)\, and receive $50 off Obagi Medical retail purchased that day. Limited appointments are available from 8:00AM-4:00PM. Call (850) 733-5180 to schedule. Rules &amp\; restrictions apply. See staff or visit aquamedicalspa.com/specials-events/ for complete details.
LOCATION:Aqua Medical Spa - Gulf Breeze 3089 Gulf Breeze Parkway Gulf Breeze\, FL
UID:e.2219.28756
SEQUENCE:3
DTSTAMP:20260421T120347Z
URL:https://business.gulfbreezechamber.com/events/details/glow-event-at-aqua-medical-spa-28756
END:VEVENT

END:VCALENDAR
