BEGIN:VCALENDAR
VERSION:2.0
PRODID:-//ChamberMaster//Event Calendar 2.0//EN
METHOD:PUBLISH
X-PUBLISHED-TTL:P3D
REFRESH-INTERVAL:P3D
CALSCALE:GREGORIAN
BEGIN:VEVENT
DTSTART:20260426T010000Z
DTEND:20260426T045500Z
X-MICROSOFT-CDO-ALLDAYEVENT:FALSE
SUMMARY:Goldy Locks performing LIVE at Bamboo Willie’s!
DESCRIPTION:Goldy Locks performing LIVE at Bamboo Willie's!
X-ALT-DESC;FMTTYPE=text/html:Goldy Locks performing LIVE at Bamboo Willie&rsquo\;s!
LOCATION:
UID:e.2219.32207
SEQUENCE:3
DTSTAMP:20260423T083601Z
URL:https://business.gulfbreezechamber.com/events/details/goldy-locks-performing-live-at-bamboo-willie-s-04-25-2026-32207
END:VEVENT

END:VCALENDAR
