BEGIN:VCALENDAR
VERSION:2.0
PRODID:-//ChamberMaster//Event Calendar 2.0//EN
METHOD:PUBLISH
X-PUBLISHED-TTL:P3D
REFRESH-INTERVAL:P3D
CALSCALE:GREGORIAN
BEGIN:VEVENT
DTSTART:20260430T000000Z
DTEND:20260430T040000Z
X-MICROSOFT-CDO-ALLDAYEVENT:FALSE
SUMMARY:Goodbye August performing LIVE at Bamboo Willie's!
DESCRIPTION:Goodbye August performing LIVE at Bamboo Willie's!
X-ALT-DESC;FMTTYPE=text/html:Goodbye August performing LIVE at Bamboo Willie&#39\;s!
LOCATION:
UID:e.2219.32211
SEQUENCE:3
DTSTAMP:20260423T133702Z
URL:https://business.gulfbreezechamber.com/events/details/goodbye-august-performing-live-at-bamboo-willie-s-04-29-2026-32211
END:VEVENT

END:VCALENDAR
