BEGIN:VCALENDAR
VERSION:2.0
PRODID:-//ChamberMaster//Event Calendar 2.0//EN
METHOD:PUBLISH
X-PUBLISHED-TTL:P3D
REFRESH-INTERVAL:P3D
CALSCALE:GREGORIAN
BEGIN:VEVENT
DTSTART:20250123T230000Z
DTEND:20250124T010000Z
X-MICROSOFT-CDO-ALLDAYEVENT:FALSE
SUMMARY:Gulf Breeze Area Chamber Business After Hours
DESCRIPTION:Come enjoy this free networking event for Gulf Breeze Area Chamber members\, their spouse/date or first-time prospective members. The event needs a sponsor. Light appetizers and beverages will be provided. Bring your business cards and door prizes.  Thank you to our Sponsor HotWorx
X-ALT-DESC;FMTTYPE=text/html:Come enjoy this free networking event for Gulf Breeze Area Chamber members\, their spouse/date or first-time prospective members. The event needs a sponsor. Light appetizers and beverages will be provided. Bring your business cards and door prizes.&nbsp\; <strong>Thank you to our Sponsor HotWorx</strong><br />\n<br />\n&nbsp\;
LOCATION:840 Gulf Breeze Parkway Gulf Breeze\, FL 32561
UID:e.2219.30340
SEQUENCE:3
DTSTAMP:20260419T221741Z
URL:https://business.gulfbreezechamber.com/events/details/gulf-breeze-area-chamber-business-after-hours-02-27-2025-30340
END:VEVENT

END:VCALENDAR
