BEGIN:VCALENDAR
VERSION:2.0
PRODID:-//ChamberMaster//Event Calendar 2.0//EN
METHOD:PUBLISH
X-PUBLISHED-TTL:P3D
REFRESH-INTERVAL:P3D
CALSCALE:GREGORIAN
BEGIN:VEVENT
DTSTART:20250327T220000Z
DTEND:20250328T000000Z
X-MICROSOFT-CDO-ALLDAYEVENT:FALSE
SUMMARY:Gulf Breeze Area Chamber Business After Hours
DESCRIPTION:Come enjoy this free networking event for Gulf Breeze Area Chamber members\, their spouse/date or first-time prospective members. Light appetizers and beverages will be provided. Bring your business cards and door prizes.\n\nThank you to our sponsor Sweet Creations by Sharon
X-ALT-DESC;FMTTYPE=text/html:Come enjoy this free networking event for Gulf Breeze Area Chamber members\, their spouse/date or first-time prospective members. Light appetizers and beverages will be provided. Bring your business cards and door prizes.<br />\n<span style="font-size:18px\;"><strong>Thank you to our sponsor Sweet Creations by Sharon</strong></span><br />\n&nbsp\;
LOCATION:Chamber Office 3044 Gulf Breeze Pkwy. Gulf Breeze\, FL 32563
UID:e.2219.30341
SEQUENCE:3
DTSTAMP:20260419T203144Z
URL:https://business.gulfbreezechamber.com/events/details/gulf-breeze-area-chamber-business-after-hours-03-27-2025-30341
END:VEVENT

END:VCALENDAR
