BEGIN:VCALENDAR
VERSION:2.0
PRODID:-//ChamberMaster//Event Calendar 2.0//EN
METHOD:PUBLISH
X-PUBLISHED-TTL:P3D
REFRESH-INTERVAL:P3D
CALSCALE:GREGORIAN
BEGIN:VEVENT
DTSTART:20230504T123000Z
DTEND:20230504T133000Z
X-MICROSOFT-CDO-ALLDAYEVENT:FALSE
SUMMARY:Gulf Breeze Area Chamber National Day of Prayer Breakfast
DESCRIPTION:ALL ARE WELCOME! Please join us for prayer on National Day of Prayer. It will be held at the Gulf Breeze Recreation Center on May 4 at 7:30am. What a great way to start your day! Grab pastries and coffee too.
X-ALT-DESC;FMTTYPE=text/html:<span style="color: rgb(5\, 5\, 5)\; font-family: &quot\;Segoe UI Historic&quot\;\, &quot\;Segoe UI&quot\;\, Helvetica\, Arial\, sans-serif\; font-size: 15px\; font-style: normal\; font-variant-ligatures: normal\; font-variant-caps: normal\; font-weight: 400\; letter-spacing: normal\; orphans: 2\; text-align: start\; text-indent: 0px\; text-transform: none\; white-space: pre-wrap\; widows: 2\; word-spacing: 0px\; -webkit-text-stroke-width: 0px\; background-color: rgb(255\, 255\, 255)\; text-decoration-thickness: initial\; text-decoration-style: initial\; text-decoration-color: initial\; display: inline !important\; float: none\;">ALL ARE WELCOME! Please join us for prayer on National Day of Prayer. It will be held at the Gulf Breeze Recreation Center on May 4 at 7:30am. What a great way to start your day! Grab pastries and coffee too.</span>
LOCATION:Gulf Breeze Rec Center 800 Shoreline Dr Gulf Breeze\, FL 32561
UID:e.2219.28664
SEQUENCE:3
DTSTAMP:20260421T120951Z
URL:https://business.gulfbreezechamber.com/events/details/gulf-breeze-area-chamber-national-day-of-prayer-breakfast-28664
END:VEVENT

END:VCALENDAR
