BEGIN:VCALENDAR
VERSION:2.0
PRODID:-//ChamberMaster//Event Calendar 2.0//EN
METHOD:PUBLISH
X-PUBLISHED-TTL:P3D
REFRESH-INTERVAL:P3D
CALSCALE:GREGORIAN
BEGIN:VEVENT
DTSTART:20230511T120000Z
DTEND:20230511T133000Z
X-MICROSOFT-CDO-ALLDAYEVENT:FALSE
SUMMARY:Gulf Breeze Area Chamber Rise and Shine Breakfast
DESCRIPTION:Start your morning with networking\, learning\, and a wonderful hot breakfast! Join us for our May Rise & Shine networking breakfast on Thursday\, May 11 from 7a to 8:30a  Sponsored by Gilmore Services .  Our speaker will be \n\nAmerican Legion Post 378
X-ALT-DESC;FMTTYPE=text/html:Start your morning with networking\, learning\, and a wonderful hot breakfast! Join us for our May Rise &amp\; Shine networking breakfast on Thursday\, May 11 from 7a to 8:30a&nbsp\; <strong><span style="font-family:calibri\,sans-serif\;">Sponsored by Gilmore Services .&nbsp\; Our speaker will be </span></strong><br />\nAmerican Legion Post 378<br />\n&nbsp\;
LOCATION:St. Ann Catholic Parish 100 Daniel Drive Gulf Breeze\, FL 32561
UID:e.2219.28435
SEQUENCE:3
DTSTAMP:20260421T120902Z
URL:https://business.gulfbreezechamber.com/events/details/gulf-breeze-area-chamber-rise-and-shine-breakfast-05-11-2023-28435
END:VEVENT

END:VCALENDAR
