BEGIN:VCALENDAR
VERSION:2.0
PRODID:-//ChamberMaster//Event Calendar 2.0//EN
METHOD:PUBLISH
X-PUBLISHED-TTL:P3D
REFRESH-INTERVAL:P3D
CALSCALE:GREGORIAN
BEGIN:VEVENT
DTSTART:20230608T120000Z
DTEND:20230608T133000Z
X-MICROSOFT-CDO-ALLDAYEVENT:FALSE
SUMMARY:Gulf Breeze Area Chamber Rise and Shine Breakfast
DESCRIPTION:Start your morning with networking\, learning\, and a wonderful hot breakfast! Join us for our June Rise & Shine networking breakfast on Thursday\, June 8 from 7a to 8:30a  Sponsored by University Lending - Donna Smith .  Our speaker will be Santa Rosa County Sheriffs K-9 Units.  This month children are welcome.\n\nPLEASE RSVP ALL ATTENDING (WE NEED TO MAKE SURE THERE IS ENOUGH FOOD)
X-ALT-DESC;FMTTYPE=text/html:Start your morning with networking\, learning\, and a wonderful hot breakfast! Join us for our June Rise &amp\; Shine networking breakfast on Thursday\, June 8 from 7a to 8:30a&nbsp\; <strong><span style="font-family:calibri\,sans-serif\;">Sponsored by University Lending - Donna Smith .&nbsp\; Our speaker will be Santa Rosa County Sheriffs K-9 Units.&nbsp\; This month children are welcome.<br />\n<span style="font-size:20px\;"><span style="font-size:26px\;"><span style="background-color:#FFFF00\;">PLEASE RSVP ALL ATTENDING</span></span> </span></span></strong><span style="font-size:14px\;"><span style="font-family:calibri\,sans-serif\;">(WE NEED TO MAKE SURE THERE IS ENOUGH FOOD)</span></span><br />\n<br />\n&nbsp\;
LOCATION:St. Ann Catholic Parish 100 Daniel Drive Gulf Breeze\, FL 32561
UID:e.2219.28436
SEQUENCE:3
DTSTAMP:20260421T134619Z
URL:https://business.gulfbreezechamber.com/events/details/gulf-breeze-area-chamber-rise-and-shine-breakfast-06-08-2023-28436
END:VEVENT

END:VCALENDAR
