BEGIN:VCALENDAR
VERSION:2.0
PRODID:-//ChamberMaster//Event Calendar 2.0//EN
METHOD:PUBLISH
X-PUBLISHED-TTL:P3D
REFRESH-INTERVAL:P3D
CALSCALE:GREGORIAN
BEGIN:VEVENT
DTSTART:20230713T120000Z
DTEND:20230713T133000Z
X-MICROSOFT-CDO-ALLDAYEVENT:FALSE
SUMMARY:Gulf Breeze Area Chamber Rise and Shine Breakfast
DESCRIPTION:MEMBERS ONLY  (This Month)                  \n\n                           Need to RSVP Please!\n\nStart your morning with networking\, learning\, and a wonderful hot breakfast! Join us for our July Rise & Shine networking breakfast on Thursday\, July 13 from 7a to 8:30a  Sponsored by First Dance .  Our speaker will be Kevin Fussell\, P. E. FDOT D3 Construction Manager
X-ALT-DESC;FMTTYPE=text/html:<strong><span style="font-size:24px\;">&nbsp\;&nbsp\;&nbsp\;&nbsp\;&nbsp\;&nbsp\;&nbsp\;&nbsp\;&nbsp\;&nbsp\;&nbsp\;&nbsp\;&nbsp\;&nbsp\;&nbsp\;&nbsp\;&nbsp\;&nbsp\;&nbsp\;&nbsp\;&nbsp\;&nbsp\; &nbsp\; &nbsp\; MEMBERS ONLY&nbsp\; <span style="font-size:16px\;">(This Month)</span> &nbsp\;&nbsp\;&nbsp\;&nbsp\;&nbsp\;&nbsp\;&nbsp\;&nbsp\;&nbsp\;&nbsp\;&nbsp\;&nbsp\;&nbsp\;&nbsp\;&nbsp\;&nbsp\;&nbsp\;<br />\n&nbsp\;&nbsp\;&nbsp\;&nbsp\;&nbsp\;&nbsp\;&nbsp\;&nbsp\;&nbsp\;&nbsp\;&nbsp\;&nbsp\;&nbsp\;&nbsp\;&nbsp\;&nbsp\;&nbsp\;&nbsp\;&nbsp\;&nbsp\;&nbsp\;&nbsp\;&nbsp\;&nbsp\;&nbsp\;&nbsp\; Need to RSVP Please!</span></strong><br />\nStart your morning with networking\, learning\, and a wonderful hot breakfast! Join us for our July Rise &amp\; Shine networking breakfast on Thursday\, July 13 from 7a to 8:30a&nbsp\; <strong><span style="font-family:calibri\,sans-serif\;">Sponsored by<span style="font-size:18px\;"> First Dance</span> .&nbsp\; <span style="font-size:20px\;">Our speaker will be Kevin Fussell\, P. E. FDOT D3 Construction Manager</span></span></strong><br />\n<br />\n&nbsp\;
LOCATION:St. Ann Catholic Parish 100 Daniel Drive Gulf Breeze\, FL 32561
UID:e.2219.28437
SEQUENCE:3
DTSTAMP:20260420T042542Z
URL:https://business.gulfbreezechamber.com/events/details/gulf-breeze-area-chamber-rise-and-shine-breakfast-07-13-2023-28437
END:VEVENT

END:VCALENDAR
