BEGIN:VCALENDAR
VERSION:2.0
PRODID:-//ChamberMaster//Event Calendar 2.0//EN
METHOD:PUBLISH
X-PUBLISHED-TTL:P3D
REFRESH-INTERVAL:P3D
CALSCALE:GREGORIAN
BEGIN:VEVENT
DTSTART:20230914T120000Z
DTEND:20230914T133000Z
X-MICROSOFT-CDO-ALLDAYEVENT:FALSE
SUMMARY:Gulf Breeze Area Chamber Rise and Shine Breakfast
DESCRIPTION:Start your morning with networking\, learning\, and a wonderful hot breakfast! Join us for our September Rise & Shine networking breakfast on Thursday\, September 14 from 7a to 8:30a  Sponsored by St Ann's Catholic Parish .  Our speaker will be Louis Maygarden Center\, Rachael Linn
X-ALT-DESC;FMTTYPE=text/html:Start your morning with networking\, learning\, and a wonderful hot breakfast! Join us for our September Rise &amp\; Shine networking breakfast on Thursday\, September 14 from 7a to 8:30a&nbsp\; <strong><span style="font-family:calibri\,sans-serif\;">Sponsored by St Ann&#39\;s Catholic Parish .&nbsp\; Our speaker will be Louis Maygarden Center\, Rachael Linn</span></strong><br />\n<br />\n&nbsp\;
LOCATION:St. Ann Catholic Parish 100 Daniel Drive Gulf Breeze\, FL 32561
UID:e.2219.28439
SEQUENCE:3
DTSTAMP:20260420T002353Z
URL:https://business.gulfbreezechamber.com/events/details/gulf-breeze-area-chamber-rise-and-shine-breakfast-09-14-2023-28439
END:VEVENT

END:VCALENDAR
