BEGIN:VCALENDAR
VERSION:2.0
PRODID:-//ChamberMaster//Event Calendar 2.0//EN
METHOD:PUBLISH
X-PUBLISHED-TTL:P3D
REFRESH-INTERVAL:P3D
CALSCALE:GREGORIAN
BEGIN:VEVENT
DTSTART:20231109T130000Z
DTEND:20231109T143000Z
X-MICROSOFT-CDO-ALLDAYEVENT:FALSE
SUMMARY:Gulf Breeze Area Chamber Rise and Shine Breakfast
DESCRIPTION:Start your morning with networking\, learning\, and a wonderful hot breakfast! Join us for our November Rise & Shine networking breakfast on Thursday\, November 9 from 7a to 8:30a  Sponsored by Drug Free Workplace.  Our speaker will be Nicole Gislason with UWF Haas Center
X-ALT-DESC;FMTTYPE=text/html:Start your morning with networking\, learning\, and a wonderful hot breakfast! Join us for our November Rise &amp\; Shine networking breakfast on Thursday\, November 9 from 7a to 8:30a&nbsp\; <strong><span style="font-family:calibri\,sans-serif\;">Sponsored by Drug Free Workplace.&nbsp\; Our speaker will be Nicole Gislason with UWF Haas Center</span></strong><br />\n<br />\n&nbsp\;
LOCATION:St. Ann Catholic Parish 100 Daniel Drive Gulf Breeze\, FL 32561
UID:e.2219.28441
SEQUENCE:3
DTSTAMP:20260419T221739Z
URL:https://business.gulfbreezechamber.com/events/details/gulf-breeze-area-chamber-rise-and-shine-breakfast-11-09-2023-28441
END:VEVENT

END:VCALENDAR
